BEGIN:VCALENDAR
VERSION:2.0
PRODID:-//wp-events-plugin.com//7.2.3.1//EN
BEGIN:VEVENT
UID:618@ventureclub.cz
DTSTART;TZID=Europe/Prague:20250925T180000
DTEND;TZID=Europe/Prague:20250925T190000
DTSTAMP:20250923T134101Z
URL:https://ventureclub.cz/udalost/sanezoo-informativni-meeting/
SUMMARY:Sanezoo informativní meeting
DESCRIPTION:Pro lepší informovanost investorů projektu Sanezoo byl zorga
 nizován meeting\, na čtvrtek 25.9.2025 podvečer\, v 18 hodin.\n\nPro od
 kaz na schůzku napište na Jana@ventureclub.cz a pokud jste investorem v 
 projektu bude Vám poslán odkaz na GOOGLE MEET\, kde bude schůzka probí
 hat.\n\n1. Během schůzky představíme strategickou vizi společnosti\,
  obchodní model a klíčové oblasti plánovaného rozvoje.\n2. Dále se
  zaměříme na aktuální ekonomickou výkonnost\, rozvojové iniciativy 
 a možnosti budoucího vstupu investora nebo prodeje podílu.\n\nPetr Šed
 ivý \nJednatel Venture Club Invest sro\, osoba rizikového kapitálu\, p
 ředseda výboru spolku Venture Club zs
ATTACH;FMTTYPE=image/jpeg:https://ventureclub.cz/wp-content/uploads/2024/0
 9/SNZ_qualitycontrol_maly.jpg
CATEGORIES:Prezentace
END:VEVENT
BEGIN:VTIMEZONE
TZID:Europe/Prague
X-LIC-LOCATION:Europe/Prague
BEGIN:DAYLIGHT
DTSTART:20250330T030000
TZOFFSETFROM:+0100
TZOFFSETTO:+0200
TZNAME:CEST
END:DAYLIGHT
END:VTIMEZONE
END:VCALENDAR