BEGIN:VCALENDAR
VERSION:2.0
PRODID:-//wp-events-plugin.com//7.2.3.1//EN
BEGIN:VEVENT
UID:679@ventureclub.cz
DTSTART;TZID=Europe/Prague:20260115T190000
DTEND;TZID=Europe/Prague:20260115T200000
DTSTAMP:20260112T224635Z
URL:https://ventureclub.cz/udalost/sanezoo-novinky-v-projektu-a-novy-upis-
 akcii/
SUMMARY:Sanezoo - novinky v projektu a nový úpis akcií
DESCRIPTION:Pro lepší informovanost investorů projektu Sanezoo je zorgan
 izován meeting\, na čtvrtek 15.1.2025 podvečer\, v 19 hodin\, online. 
  Pozvání platí pro všechny stávající investory SANEZOO a meeting or
 ganizujeme po dohodě správní rady a vedení společnosti SANEZOO SE.  
 Mohou se účastnit i noví zájemci o investici\, členové klubu.\n\nPro
  odkaz na schůzku napište prosím na Jana@ventureclub.cz a nebo se přih
 laste níže\, ideálně po předchozím zalogování do portálu klubu.\n
 \n&nbsp\;\n\nPřihlášeným uživatelům / investorům projektu pošleme 
 nejdéle ve čtvrtek během dne odkaz na on-line meeting. Předpokladem  
 účasti je a) předchozí investice v SANEZOO\, jakákoliv b) pro zatím 
 ne-investory SANEZOO se předpokládá členství ve Venture Clubu a podpi
 s NDA. Meeting není veřejný.\n\nProgram:\n\n1. Během schůzky Vás chc
 eme informovat o stavu projektu\, hlavně z pohledu vývoje obchodu a na t
 o navazující vývoj a potřeby dalšího financování společnosti. \n
 \n2. Správní rada společnosti připravuje nový úpis akcií s uvažova
 nou cenou 250 Kč/akcie a možný následný vstup investičního fondu. P
 ři té příležitosti budou mít stávající investoři možnost nakoup
 it si také v rámci prvního kola a v souladu s legislativou. Na meetingu
  představíme postup úpisu a potřebné kroky\, které potřebujeme udě
 lat tak\, aby vstup fondu byl možný.\n\nPetr Šedivý\, člen správní 
 rady SANEZOO SE\nJednatel Venture Club Invest s.r.o.\, osoba rizikového k
 apitálu\n\nVladimír Horák\, CEO SANEZOO
ATTACH;FMTTYPE=image/jpeg:https://ventureclub.cz/wp-content/uploads/2024/0
 9/SNZ_qualitycontrol_maly.jpg
CATEGORIES:Prezentace
LOCATION:Microsoft Teams Meeting\, online\, Praha 1\, Česká republika
GEO:50.0887101;14.4155981
X-APPLE-STRUCTURED-LOCATION;VALUE=URI;X-ADDRESS=online\, Praha 1\, Česká 
 republika;X-APPLE-RADIUS=100;X-TITLE=Microsoft Teams Meeting:geo:50.088710
 1,14.4155981
END:VEVENT
BEGIN:VTIMEZONE
TZID:Europe/Prague
X-LIC-LOCATION:Europe/Prague
BEGIN:STANDARD
DTSTART:20251026T020000
TZOFFSETFROM:+0200
TZOFFSETTO:+0100
TZNAME:CET
END:STANDARD
END:VTIMEZONE
END:VCALENDAR