BEGIN:VCALENDAR
VERSION:2.0
PRODID:-//wp-events-plugin.com//7.2.3.1//EN
BEGIN:VEVENT
UID:686@ventureclub.cz
DTSTART;TZID=Europe/Prague:20260319T140000
DTEND;TZID=Europe/Prague:20260319T160000
DTSTAMP:20260306T135142Z
URL:https://ventureclub.cz/udalost/sanezoo-valna-hromada-a-setkani-investo
 ru-2/
SUMMARY:SANEZOO valná hromada a setkání investorů
DESCRIPTION:\nVážené akcionářky\, vážení akcionáři\,\n\n\n\ndovol
 ujeme si Vás tímto srdečně pozvat na valnou hromadu společnosti SANEZ
 OO SE. Valná hromada má v podstatě jediný bod programu: schválení 
 úpisu founderských akcií. \n\n\nV navazující části pak odpovíme
  na dotazy a odreferujeme novinky ve firmě. Do data konání valné hro
 mady předpokládáme že ještě proběhne podepisování vedlejší do
 hody akcionářů. \nOboje – podpis dohody i zatím první valná hroma
 da ze dvou plánovaných – jsou další nutné kroky k udržení financ
 ování společnosti\, jak jsme avizovali 15.1.2026. \nDěkujeme za souč
 innost.\nDatum konání:        19. 03. 2026\nPrezence:      
          13:30 hodin\nZahájení akce:        14:00 hodin\
 nMísto:                      Impact Hub Brno\, Cyr
 ilská 7\, 602 00 Brno-střed-Trnitá (stejný objekt\, jako minule\, jen
  konferenční místnost v přízemí)\nPokud se chcete zúčastnit onli
 ne - samozřejmě půjde pouze o pasivní účast\, bez možnosti hlasovat
 \, i když přímo držíte akcie - registrujte se níže . Sanezoo vám p
 ošle odkaz a další podrobnosti. Plánujeme streamovat jak valnou hromad
 u (pokud možno od 14:00)\, tak určitě informační část (od 15:00).\n
 \nPokud se chcete zúčastnit osobně\, prosím dejte nám to vědět.\n\n
 Petr Šedivý\n\nJednatel Venture Club SNZ sro\, člen představenstva SAN
 EZOO SE\n\nPOZVÁNKA NA VALNOU HROMADU společnosti SANEZOO SE \, IČO: 06
 7 08 552\, se sídlem Vlněna 526/7\, Trnitá\, 602 00 Brno\, zapsaná v o
 bchodním rejstříku pod sp. zn. H 618 vedeném Krajským soudem v Brně\
 n\n(„ Společnost “)
ATTACH;FMTTYPE=image/jpeg:https://ventureclub.cz/wp-content/uploads/2024/0
 9/SNZ_qualitycontrol_maly.jpg
LOCATION:Quality Hotel Brno Exhibition Centre\, Křížkovského 496/20603\
 , Brno\, Česko\, 60200\, Česká republika
GEO:49.184277;16.5805
X-APPLE-STRUCTURED-LOCATION;VALUE=URI;X-ADDRESS=Křížkovského 496/20603\
 , Brno\, Česko\, 60200\, Česká republika;X-APPLE-RADIUS=100;X-TITLE=Qua
 lity Hotel Brno Exhibition Centre:geo:49.184277,16.5805
END:VEVENT
BEGIN:VTIMEZONE
TZID:Europe/Prague
X-LIC-LOCATION:Europe/Prague
BEGIN:STANDARD
DTSTART:20251026T020000
TZOFFSETFROM:+0200
TZOFFSETTO:+0100
TZNAME:CET
END:STANDARD
END:VTIMEZONE
END:VCALENDAR