BEGIN:VCALENDAR
VERSION:2.0
PRODID:-//wp-events-plugin.com//7.2.3.1//EN
BEGIN:VEVENT
UID:586@ventureclub.cz
DTSTART;TZID=Europe/Prague:20250414T140000
DTEND;TZID=Europe/Prague:20250414T160000
DTSTAMP:20250324T081418Z
URL:https://ventureclub.cz/udalost/sanezoo-valna-hromada-a-setkani-investo
 ru/
SUMMARY:SANEZOO valná hromada a setkání investorů
DESCRIPTION:14.4. proběhne valná hromada SANEZOO SE - investoři přímo 
 držící akce brzy obdrží pozvánku a mohou se přihlásit k osobní ú
 časti. Setkání proběhne v Brně v Quality Hotel Brno Exhibition Centre
 \, následovat bude informační schůzka pro investory. Setkání i info
 rmační setkání jsou k dispozici také pro menší investory seskupené
  v SPV Venture Club (držící kmenové listy)\, a to buď osobně\, nebo 
 online.\n\nPokud se chcete zúčastnit osobně \, ať už jste držitelem 
 nebo akciových listů\, přihlaste se přímo u SANEZOO SE\, nebo nám po
 šlete email .\n\nPokud se chcete zúčastnit online - samozřejmě půjde
  pouze o pasivní účast\, bez možnosti hlasovat\, i když přímo drž
 íte akcie - registrujte se níže . Pošleme vám odkaz a další podrobn
 osti. Plánujeme streamovat jak valnou hromadu (pokud možno od 14:00)\, t
 ak určitě informační část (od 15:00).\n\nPetr Šedivý\n\nJednatel V
 enture Club SNZ sro\, člen představenstva SANEZOO SE\n\n&nbsp\;\n\nPOZV
 ÁNKA NA VALNOU HROMADU\n\nspolečnosti\n\nSANEZOO SE \, IČO: 067 08 552\
 , se sídlem Vlněna 526/7\, Trnitá\, 602 00 Brno\, zapsaná v obchodním
  rejstříku pod sp. zn. H 618 vedeném Krajským soudem v Brně\n\n(„ S
 polečnost “)\n\nVážení akcionáři\,\n\nZveme Vás na řádnou valno
 u hromadu společnosti\, která se bude konat dne 14.4.2025 ve 14:00 v Qua
 lity Hotel Brno Exhibition Centre\, Křížkovského 20\, 603 00 Brno
ATTACH;FMTTYPE=image/jpeg:https://ventureclub.cz/wp-content/uploads/2024/0
 9/SNZ_qualitycontrol_maly.jpg
LOCATION:Quality Hotel Brno Exhibition Centre\, Křížkovského 496/20603\
 , Brno\, Česko\, 60200\, Česká republika
GEO:49.184277;16.5805
X-APPLE-STRUCTURED-LOCATION;VALUE=URI;X-ADDRESS=Křížkovského 496/20603\
 , Brno\, Česko\, 60200\, Česká republika;X-APPLE-RADIUS=100;X-TITLE=Qua
 lity Hotel Brno Exhibition Centre:geo:49.184277,16.5805
END:VEVENT
BEGIN:VTIMEZONE
TZID:Europe/Prague
X-LIC-LOCATION:Europe/Prague
BEGIN:DAYLIGHT
DTSTART:20250330T030000
TZOFFSETFROM:+0100
TZOFFSETTO:+0200
TZNAME:CEST
END:DAYLIGHT
END:VTIMEZONE
END:VCALENDAR