BEGIN:VCALENDAR
VERSION:2.0
PRODID:-//wp-events-plugin.com//7.2.3.1//EN
BEGIN:VEVENT
UID:610@ventureclub.cz
DTSTART;TZID=Europe/Prague:20250902T170000
DTEND;TZID=Europe/Prague:20250902T190000
DTSTAMP:20250829T215827Z
URL:https://ventureclub.cz/udalost/setkani-vyboru-klubu-a-spolecniku-vci-2
 /
SUMMARY:Setkání Výboru klubu a společníků VCI
DESCRIPTION:Blíží se druhá polovina roku\, a proto zvažujeme\, jaké n
 ové příležitosti se nám naskytnou\, kam se podíváme a s kým se pot
 káme. Diskutujeme i další rozvoj naší investiční platformy\, aby je
 ště lépe sloužila našim potřebám. V rámci příprav na změny v m
 ožnostech investování aktuálně diskutujeme\, jak rozšířit přístu
 p k projektům a tím posílit schopnost klubu investovat. Zatím probíha
 jí debaty v užším kruhu\, ale věřím\, že výsledkem bude\, že ka
 ždý\, kdo bude chtít investovat\, tu možnost mít bude. Chcete-li se 
 účastnit\, jste vítáni.\nProgram\n17:00 Veřejná část\, aktuální 
 otázky viz výše\n18:00 Výbor spolku schvalující výsledek hospodaře
 ní za rok 2024 - členové výboru dostali pozvánku i s přílohami emai
 lem\n19:00 Neveřejná část - setkání společníků Venture Club Inves
 t s.r.o.\, osoba rizikového kapitálu\nProsíme o přihlášení předem\
 , děkujeme.\nNa viděnou se těší\nMUDr. Petr Šedivý\, předseda výb
 oru Venture Clubu z.s.\, jednatel Venture Club Invest s.r.o.\, osoba rizik
 ového kapitálu\n&nbsp\;
ATTACH;FMTTYPE=image/jpeg:https://ventureclub.cz/wp-content/uploads/2025/0
 4/Obraz-stolu-s-lidmi-v-diskusi-nebo-prezentaci-elegantni-svetle-prostredi
 -lide-kolem-stolu-nebo-pred-platnem-vyzaruje-duveru-profesionalitu-a-spolu
 praci.jpg
CATEGORIES:Výbor klubu
LOCATION:Park Atrium u spol. 2N\, Pod Vinicí 2028/20\, Praha 12\, Česká 
 republika
GEO:50.0158484;14.404343599999947
X-APPLE-STRUCTURED-LOCATION;VALUE=URI;X-ADDRESS=Pod Vinicí 2028/20\, Praha
  12\, Česká republika;X-APPLE-RADIUS=100;X-TITLE=Park Atrium u spol. 2N:
 geo:50.0158484,14.404343599999947
END:VEVENT
BEGIN:VTIMEZONE
TZID:Europe/Prague
X-LIC-LOCATION:Europe/Prague
BEGIN:DAYLIGHT
DTSTART:20250330T030000
TZOFFSETFROM:+0100
TZOFFSETTO:+0200
TZNAME:CEST
END:DAYLIGHT
END:VTIMEZONE
END:VCALENDAR