BEGIN:VCALENDAR
VERSION:2.0
PRODID:-//wp-events-plugin.com//7.2.3.1//EN
BEGIN:VEVENT
UID:164@ventureclub.cz
DTSTART;TZID=Europe/Prague:20200917T110000
DTEND;TZID=Europe/Prague:20200917T160000
DTSTAMP:20221007T074244Z
URL:https://ventureclub.cz/udalost/slavnostni-otevreni-mes-spusteni-vyroby
 -he3da-baterii/
SUMMARY:Slavnostní otevření továrny MES na baterie HE3DA
DESCRIPTION:Po dlouhých přípravách a přípravě náběhu výroby\, má
 me tu čest se účastnit slavnostního spuštění výroby baterií He3da
 \, v MES v Horní Suché. Přímý investoři se smlouvou na Battery Unite
  pozvánky již dostali a mohou se účastnit i s partnery. Očekáváme k
  1000 hostů\, i ze zahraničí...a přiměřenou pozornost tisku. Nabíh
 á seriová výroba a budou představeny finální výrobky. Například d
 omácí úložiště půjde již objednat - přičemž stávající invest
 oři mají přednost v dodávkách.\n\nDetaily programu obdrží účastn
 íci mailem předem\, včetně koordinace dopravy na místo. Oficiální z
 práva je zde.\n\nAle orientačně: začátek je plánován na 11 hodin\, 
 konec na 14 hodin. Registrace pro účastníky\, kteří chtějí nabíjet
  elektromobil příjezd do 9:30 hodin\, pro ostatní do 10:30 hodin. Dopra
 va individuální\, od vlaku případně doporučujeme taxi. Na akci se č
 eká asi 500-600 lidí\, nebudou - pokud se situace nezmění - žádné s
 peciální zóny\, VIP sekce a podobně. V nejvyšším patru administrati
 vní budovy je prostor pro asi 90 lidí\, program bude přenášen sem ele
 ktronicky.\n\nTak sláva\, na tohle jsme čekali. Projekt se posouvá do d
 alší fáze :)\n\nVenture Club jako významný investor rád připisuje t
 uto investici na seznam svých referencí. Věříme\, že všichni budou 
 spokojeni.\n\nMimochodem\, pokud jste drobný investor\, plánujeme výlet
  do MES a Horní Suché na 10.10.2020. A pokud ještě investor nejste\, s
 tále probíhá sběr prostředků v Eur přes FKI CFDF\, rádi zprostřed
 kujeme Vaše zapojení. Kdo dříve přijde\, profituje\, díky plánovan
 ému navýšení hodnoty projektu\, více.\n\nJsme rád\, že můžeme bý
 t u toho.\n\nPetr Šedivý\, investor MES\, předseda výboru klubu a jedn
 atel Venture club Investu
ATTACH;FMTTYPE=image/jpeg:https://ventureclub.cz/wp-content/uploads/2022/0
 8/MES_Otevreni.png
CATEGORIES:Prezentace,Společenská akce
LOCATION:MES\, Areál dolu František\, Horní Suchá\, Karviná\, Česká 
 republika
GEO:49.805108;18.473959
X-APPLE-STRUCTURED-LOCATION;VALUE=URI;X-ADDRESS=Areál dolu František\, Ho
 rní Suchá\, Karviná\, Česká republika;X-APPLE-RADIUS=100;X-TITLE=MES:
 geo:49.805108,18.473959
END:VEVENT
BEGIN:VTIMEZONE
TZID:Europe/Prague
X-LIC-LOCATION:Europe/Prague
BEGIN:DAYLIGHT
DTSTART:20200329T030000
TZOFFSETFROM:+0100
TZOFFSETTO:+0200
TZNAME:CEST
END:DAYLIGHT
END:VTIMEZONE
END:VCALENDAR