BEGIN:VCALENDAR
VERSION:2.0
PRODID:-//wp-events-plugin.com//7.2.3.1//EN
BEGIN:VEVENT
UID:81@ventureclub.cz
DTSTART;TZID=Europe/Prague:20181130T140000
DTEND;TZID=Europe/Prague:20181130T200000
DTSTAMP:20221007T075659Z
URL:https://ventureclub.cz/udalost/spolecna-networkingova-akce-ica-venture
 -club/
SUMMARY:Společná networkingová akce ICA - Venture Club
DESCRIPTION:Zveme vás na 3. ročník tradiční networkingové akce\, kter
 ou pořádáme společně s ICA akcelerátorem Tomáše Havrdy. Chcete se
  představit před sálem zájemců o nové kontakty? Hledáte zákazníky
  či pomoc do svého projektu či služby? Zajímá Vás\, co v klubu děl
 áme za investice? Chcete se seznámit s prospěšnými neziskovými proje
 kty? To všechno najdete v pátek odpoledne v kině Ponrepo. A chcete-li\
 , zůstaňte s námi v paláci Konvikt diskutovat až do večera.\n\nProgr
 am:\n\n14:00 Zahájení\n\n14:10 - 14:50 První blok \n\n 	1. kolo předs
 tavení účastníků\n 	Prezentace investičních příležitostí Ventur
 e Clubu: Nanopharma: [n]fibrecare - pleťové masky z nanovláken. (Proj
 ekt získal 1. cenu FutureNow StartUp Awards v Bratislavě.)\n\nnetworking
 ová přestávka\, občerstvení\n\n15:10 - 16:00 Druhý blok \n\n 	2. ko
 lo představení účastníků.\n 	Představení Nadačního fondu Arhuac
 os\, káva od indiánů v Sierra Nevada\, Kolumbie\, Alena Antonovičová\
 n 	Prezentace investičních příležitostí Venture Clubu: PetExpert -
  pojištění\, které má hlavu a packu. (Projekt získal 2. cenu v inov
 aci roku v pojišťovnictví\, otevřeně ho podporuje ČSOB pojišťovna 
 a banka.)\n\nnetworkingová přestávka\, ochutnávka kávy\, možnosti po
 dpořit kmen Arhuacos zakoupením kávy \n\n16:10 - 17:00 Třetí blok \
 n\n 	3. kolo představení účastníků\n 	Představení projektu na ochr
 anu mořských želv  v Indonésii\, Mgr. Hana Svobodová\n 	Prezentace 
 Venture Clubu a dalších investičních příležitostí. Pozvánky na ak
 ce.\n\n&nbsp\;\n\n17:00 - 20:00 Volná diskuse v paláci Konvikt 17:00 - 2
 0:00\n\n-------------------------------\n\nVstup: na místě se platí spo
 nsorský příspěvek na akci\, 200\,- Kč. V ceně drobné občerstvení 
 a nápoje. Možnost prezentovat se přes sálem účastníků - čekáme 1
 00 lidí. BONUS: Pokud si registrujete min. základní členství do Ventu
 re klubu do 3.12.2018\, máte zdarma Vánoční koncert Bennewitzova kvart
 eta\, 4.12.2018\, v Umělecko průmyslovém muzeu\, v Praze 1\, s navazuj
 ícím povídáním s umělci u sklenky vína.\n\nPOZOR: registrace na akc
 i a seznam účastníků je přes systém ICA zde. Prosíme o přihlášen
 í z důvodu zajištění dostatečné kapacity občerstvení. Děkujeme!\
 n\nTěšíme se na Vás.\n\nPetr Šedivý a Tomáš Havrda\, za Venture Cl
 ub a ICA akcelerátor
CATEGORIES:Společenská akce
LOCATION:Kino Ponrepo\, Bartolomějská 11\, Praha 1\, Česká republika
GEO:50.0830744;14.4175702
X-APPLE-STRUCTURED-LOCATION;VALUE=URI;X-ADDRESS=Bartolomějská 11\, Praha 
 1\, Česká republika;X-APPLE-RADIUS=100;X-TITLE=Kino Ponrepo:geo:50.08307
 44,14.4175702
END:VEVENT
BEGIN:VTIMEZONE
TZID:Europe/Prague
X-LIC-LOCATION:Europe/Prague
BEGIN:STANDARD
DTSTART:20181028T020000
TZOFFSETFROM:+0200
TZOFFSETTO:+0100
TZNAME:CET
END:STANDARD
END:VTIMEZONE
END:VCALENDAR