BEGIN:VCALENDAR
VERSION:2.0
PRODID:-//wp-events-plugin.com//7.2.3.1//EN
BEGIN:VEVENT
UID:112@ventureclub.cz
DTSTART;TZID=Europe/Prague:20190820T180000
DTEND;TZID=Europe/Prague:20190820T220000
DTSTAMP:20221007T081835Z
URL:https://ventureclub.cz/udalost/svatojakubske-varhany/
SUMMARY:Svatojakubské varhany
DESCRIPTION:Naše druhé letní setkání nás zavede k největším pražs
 kým varhanám z r. 1705\, do barokního refektáře u sv. Jiljí a nakon
 ec do pověstného Montíku\, kde se vždy potkávala vybraná společnost
 .  \nNa co se můžete těšit?\nV 18:00 se sejdeme v bazilice sv. Jakub
 a a prohlédneme si zdejší unikátní varhany z r. 1705\, největší v 
 Praze. Až budou nasyceny naše oči\, můžeme se oddat sluchovému záž
 itku v podobě privátního varhanního koncertu v podání vynikající I
 reny Chřibkové\, která zde pořádá i Mezinárodní varhanní festival
 .\n\nPoté se přesuneme k Sv.Jiljí – projdeme barokní refektář\, po
 díváme se na rekonstruované prostory pana arch. Pleskota a akci zakonč
 íme u občerstvení v nedalekém Café Montmartre\, kde se potkávala od 
 r. 1912 pražská literární a bohémská společnost.\n\nPrůvodkyní na
  naši cestě nám bude Martina Fialková\, která je členkou klubu a mno
 zí z vás ji už znají jako nadšenou propagátorku kvalitního českéh
 o umění v Čechách i zahraničí. Díky ní jsme měli loni možnost ú
 častnit se moc zajímavého festivalu České kořeny.\n\nPřidáte se?\n
 Akce je určena pro členy klubu i jejich hosty. Příspěvek účastník
 ů ve výši 200 Kč klub doplní o dalších 200 Kč\, čím přispějeme
  do fondu na rekonstrukci varhan u Sv. Jakuba\, jejichž stav vyžaduje ve
 lmi nákladnou opravu. Večerní občerstvení je pro základní členy v 
 ceně členství pro jednu osobu\, pro řádné členy i pro dvě osoby zd
 arma. Pro hosty činí příspěvek na občerstvení 300 Kč.\n\nNa setká
 ní se těší\nPetr Šedivý a Martina Fialková
ATTACH;FMTTYPE=image/jpeg:https://ventureclub.cz/wp-content/uploads/2019/0
 6/cl_1438880503-1.jpg
CATEGORIES:Společenská akce
LOCATION:Bazilika sv. Jakuba\, Malá Štupartská 6\, Praha 1\, 11000\, Če
 ská republika
GEO:50.088566;14.42454870000006
X-APPLE-STRUCTURED-LOCATION;VALUE=URI;X-ADDRESS=Malá Štupartská 6\, Prah
 a 1\, 11000\, Česká republika;X-APPLE-RADIUS=100;X-TITLE=Bazilika sv. Ja
 kuba:geo:50.088566,14.42454870000006
END:VEVENT
BEGIN:VTIMEZONE
TZID:Europe/Prague
X-LIC-LOCATION:Europe/Prague
BEGIN:DAYLIGHT
DTSTART:20190331T030000
TZOFFSETFROM:+0100
TZOFFSETTO:+0200
TZNAME:CEST
END:DAYLIGHT
END:VTIMEZONE
END:VCALENDAR