BEGIN:VCALENDAR
VERSION:2.0
PRODID:-//wp-events-plugin.com//7.2.3.1//EN
BEGIN:VEVENT
UID:534@ventureclub.cz
DTSTART;TZID=Europe/Prague:20241126T180000
DTEND;TZID=Europe/Prague:20241126T203000
DTSTAMP:20241102T213018Z
URL:https://ventureclub.cz/udalost/team-4-ukraine/
SUMMARY:Team 4 Ukraine
DESCRIPTION:Venture Club podporuje správné věci\, nejen kolem investová
 ní. A určitě pomoc napadené Ukrajině mezi správné věci patří. Po
 zvali jsme proto na popud naší členky  Team4Ukraine. Provázet nás bu
 de Ing. Jan Heřmánek\, předsedu spolku. Podíváme se\, jak myšlenka v
 znikla. Jak se liší možnosti této skupiny proti jiným. A samozřejmě
 \, jak můžeme pomoci - pokud nám není cizí neštěstí lhostejné. 
  \n\nZa humny nám běží válečný konflikt a Rusko se netají svou am
 bicí získat zpět svou sféru vlivu\, pokud uspěje. Od roku 2014\, resp
 ektive 2022 pak běží konflikt\, který nám nemůže být  lhostejný.
  V zájmu naší vlastní budoucnosti\, svobody a západní demokracie v d
 obrém slova smyslu. Tam4Ukraine pomáhá materiálně vojenským i civiln
 ím či zdravotnickým materiálem\, který se dostává rovnou potřebný
 m\, bez prostředníků. To celé běží na dobrovolnické bázi a přest
 o velmi účinně\, díky zapojení profesionálů. S několika z nich má
 me tu čest se potkat - podívat se\, jak záležitost vypadá z pohledu l
 idí s osobní zkušeností a jak by jsme jim mohli pomoci. Oni i lidé na
  Ukrajině si  pomoc - podle nás - zaslouží.\n\n&nbsp\;\n\nPředstaven
 í Team 4 Ukraine\, slovy pana Heřmánka:   \n\n"Team 4 Ukraine je čes
 ká nezisková organizace\, která pomáhá na Ukrajině od roku 2014. Čl
 enové týmu jsou vojáci v aktivní záloze i povolání\, policisté\, l
 ékaři\, zdravotníci i čistě lidé\, kterým není osud Ukrajiny a bez
 pečnosti pro Českou republiku lhostejná. Od 24.2.2022 intenzivně pomá
 háme v krizových oblastech Ukrajiny a naše činnost se dá rozdělit do
  těchto hlavních pilířů:\n\n 	Monitorování a analýza konfliktu mez
 i Ruskem a Ukrajinou\, včetně monitoringu válečných zločinů a jejic
 h evidence\n 	Výměna poznatků a zkušeností mezi ČR a UA v obranně b
 ezpečnostní oblasti\n 	Konkrétní a přímá humanitární pomoc civili
 stům (zejména ve frontových oblastech)\n 	Konkrétní a přímá pomoc 
 obráncům Ukrajiny (zejména ve frontových oblastech\n 	Kybernetická be
 zpečnost a informační válka\n\nSoučástí monitorovacích misí\, kte
 ré členové T4U realizují prakticky bez přerušení od začátku rusk
 é invaze v únoru 2022\, je i sběr důkazů pro účely vyšetřování 
 válečných zločinů. Členové T4U\, kteří se věnují monitorovacím
  aktivitám\, jsou speciálně vyškolení pozorovatelé a kriminologové 
 se zkušenostmi z mezinárodních pozorovatelských misí (OBSE)\, kteří
  svou činnost v terénu koordinují s ukrajinskými i českými orgány 
 činnými v trestním řízení.\n\nPo celoplošném ruském útoku 24. 2.
  2022 Team 4 Ukraine okamžitě vypravil první konvoje s humanitární po
 mocí a materiálem pro obránce. Humanitární aktivity se zaměřují p
 ředevším na oblast zdravotnictví\, logistiku\, bezpečí civilistů za
 sažených válkou a distribuci nepotravinové pomoci. Organizace do Ukraj
 iny dostala desítky až stovky tun humanitární pomoci a jezdí praktick
 y nepřetržitě. Na rozdíl od mnoha mezinárodních humanitárních orga
 nizací\, jež vnitřní směrnice a bezpečnostní omezení limitují v p
 omoci geograficky i výběrem příjemců\, můžeme naše relativně levn
 é projekty realizovat i v oblastech\, jako je zóna operace společných 
 sil (dříve zóna protiteroristické operace)\, které jsou pro mnoho jin
 ých mezinárodních partnerů nepřístupné a dodávat pomoc nejen civil
 nímu obyvatelstvu\, ale také obráncům a dobrovolníkům na frontovou l
 inii. Můžeme udržovat nepřetržitou operaci na nízké úrovni praktic
 ky za jakýchkoli okolností.\n\nMoc rádi členům Venture klubu přiblí
 žíme nejen naší práci\, projekty\, ale i vývoj situace na Ukrajině.
  Mnoho informací a výjevů z naší práce mohou najít členové klubu
  na našem Youtube kanálu zde: https://youtube.com/@team4ukraine948?si=V
 mZwCQoFEOzmbfdL \n\nZde najdete Letáček o T4U\, Výroční zprávu T4U 
 za rok 2022 a zajímavé čtení Článek jak přežít kyberkonflikt. \n
 \nBudu se těšit na prezentaci u Vás."  Končí povídání pan Heřmá
 nek.\n\n&nbsp\;\n\nA my dodáváme: Čeká nás zajímavé povídání\, 
 ... osobně nebo on-line. :-)\n\nRegistrace na akci níže. Vstup je tento
 krát pro  všechny zájemce volný\, klub dává k dispozici sál a obč
 erstvení. Akce je přístupná i bez členství v klubu\, po přihlášen
 í. Budeme rádi\, pokud se připojíte.\n\nTěšíme se na viděnou.\n\nP
 etr Šedivý
ATTACH;FMTTYPE=image/jpeg:https://ventureclub.cz/wp-content/uploads/2024/1
 0/T4UKjpg.jpg
CATEGORIES:Prezentace
LOCATION:Park Atrium u spol. 2N\, Pod Vinicí 2028/20\, Praha 12\, Česká 
 republika
GEO:50.0158484;14.404343599999947
X-APPLE-STRUCTURED-LOCATION;VALUE=URI;X-ADDRESS=Pod Vinicí 2028/20\, Praha
  12\, Česká republika;X-APPLE-RADIUS=100;X-TITLE=Park Atrium u spol. 2N:
 geo:50.0158484,14.404343599999947
END:VEVENT
BEGIN:VTIMEZONE
TZID:Europe/Prague
X-LIC-LOCATION:Europe/Prague
BEGIN:STANDARD
DTSTART:20241027T020000
TZOFFSETFROM:+0200
TZOFFSETTO:+0100
TZNAME:CET
END:STANDARD
END:VTIMEZONE
END:VCALENDAR