BEGIN:VCALENDAR
VERSION:2.0
PRODID:-//wp-events-plugin.com//7.2.3.1//EN
BEGIN:VEVENT
UID:188@ventureclub.cz
DTSTART;TZID=Europe/Prague:20210323T180000
DTEND;TZID=Europe/Prague:20210323T200000
DTSTAMP:20221007T081945Z
URL:https://ventureclub.cz/udalost/tokenizace-a-alzheimerova-nemoc/
SUMMARY:Tokenizace a Alzheimerova nemoc
DESCRIPTION:Večer věnujeme dvěma konkrétním investičním příležito
 stem v oblasti financování výzkumu a léčby Alzheimerovi nemoci\, pomo
 cí vydání vlastní kryptoměny a tokenů. Vlastně jde o praktickou uk
 ázku využití blochchainu. \n\nČeká nás Agora Pharmaceuticals (letá
 ček) biotechnologická farmaceutická společnost založená 2015\, věn
 ující se výzkumu a vývoji nových léků v oblasti Alzheimerovi nemoci
 . Aktuálně mají tři léčivé substance. Pro financování používaj
 í tokeny. Agora Pharmaceuticals (AGR) security token byl vytvořen s cíl
 em zajistit potřebný kapitál pro pokrytí nákladů spojených s výzku
 mem látek a nákladů spojených s klinickým zkoušením léků.\n\nPře
 dnáší MUDr. Jan Pavlík\, MBA\, CEO AlzheimerChain\, konzultant ve zdra
 votnoctví a bývalý komerční ředitel spol. Biogen Česká Republika\,
  a Radek Zejda\, Executive Director spol. MageXo. Doplní je odborník na 
 Alzheimerovu nemoc. Mezi hosty bude i expert na kryptoměny a blockchain a
  jejich velký propagátor Karel Fillner.\n\nAlzheimerChain Foundation s.r
 .o. (letáček) - založena v lednu 2020. Hlavním cílem společnosti je
  organizace\, management a supervize projektu AlzheimerChain\, který se s
 kládá ze 3 hlavních částí:\n\n 	AlzheimerChain - security token\, je
 hož prostřednictvím získává společnost prostředky\n 	AlzheimerCoin
  - utility coin\, hlavním smyslem je odměňování a motivace aktivních
  účastníků projektu\n 	AlzheimerChain aplikace\, zaměřuje se na scre
 eningové aktivity\, verbální testy\, dotazníky\, umělou inteligenci v
  oblasti hodnocení MRI\, fyzickou aktivitu a kognitivní trénink.\n\nVe
 čer tedy bude mít dvě části - první - věnující se problematice Al
 zheimerovi nemoci\, klinického zkoušení nových léčiv a vývoji softw
 aru\, pomáhající (potenciálně) nemocným. Druhá část vysvětlí\, 
 jak kryptoměny a tokenizaci v tomto případě mohou pomoci a jak se dá 
 na tom nejen pomoci bohulibé věci\, ale i vydělat.\n\nVečer je on-line
 \, registrace níže nebo e-mailem\, jako obvykle. Vstup volný\, pro při
 hlášené - po registraci obdržíte před akcí link na přihlášení.\
 n\nVenture club
ATTACH;FMTTYPE=image/jpeg:https://ventureclub.cz/wp-content/uploads/2022/0
 8/alzheimeChain.png
CATEGORIES:Prezentace
LOCATION:Microsoft Teams Meeting\, online\, Praha 1\, Česká republika
GEO:50.0887101;14.4155981
X-APPLE-STRUCTURED-LOCATION;VALUE=URI;X-ADDRESS=online\, Praha 1\, Česká 
 republika;X-APPLE-RADIUS=100;X-TITLE=Microsoft Teams Meeting:geo:50.088710
 1,14.4155981
END:VEVENT
BEGIN:VTIMEZONE
TZID:Europe/Prague
X-LIC-LOCATION:Europe/Prague
BEGIN:STANDARD
DTSTART:20201025T020000
TZOFFSETFROM:+0200
TZOFFSETTO:+0100
TZNAME:CET
END:STANDARD
END:VTIMEZONE
END:VCALENDAR