BEGIN:VCALENDAR
VERSION:2.0
PRODID:-//wp-events-plugin.com//7.2.3.1//EN
BEGIN:VEVENT
UID:63@ventureclub.cz
DTSTART;TZID=Europe/Prague:20180619T180000
DTEND;TZID=Europe/Prague:20180619T200000
DTSTAMP:20221007T074209Z
URL:https://ventureclub.cz/udalost/tr-kubik-aneb-jak-to-delaji-jini/
SUMMARY:Thomson Reuters Jan Kubík\, aneb: jak to dělají jiní?
DESCRIPTION:\nZveme členy klubu a příznivce na zajímavý večer na 19.6
 .2018\, věnovaný tomu jak to dělají jiní - posuzování investic\, in
 vestorů od subjektu nejpovolanějšího. Znáte Thomson Reuters? Noviná
 ři\, napadne asi každého. Jan Kubík\, jednatel společnosti Thomson Re
 uters v České republice a na Slovensku\, jinak člen klubu\, připravil
  povídání... jistě inspirativní. Zastupuje společnost směrem k fina
 nčním a nefinančním institucím se zaměřením na informační zdroje
  v oblasti finančních trhů\, rizika obchodních protistran a zpravodaj
 ství.\n\nJaká nás večer čekají témata? Můžete se těšit na posuz
 ování investic a obchodních protistran. Řekneme si jaké informace vyu
 žívají Private  Equity fondy ci M&amp\;A analytici při analýze a oce
 ňování investičních příležitostí. Čeká nás téma riziko protis
 tran a jeho řízení\, hloubková prověrka společnosti (Enhanced  Due 
 Diligence) a zpravodajství a media monitoring.\n\n\nMísto konání - př
 edběžně uvažujeme v sídle klubu - palác Konvikt.\n\n\nRezervace vstu
 penek níže\, vstup pro přihlášené.\n\n\n\nTěšíme se!\n\n
ATTACH;FMTTYPE=image/jpeg:https://ventureclub.cz/wp-content/uploads/2018/0
 5/Honza-Kubik-2.jpg
CATEGORIES:Prezentace
LOCATION:palác Konvikt\, Bartolomějská 11\, Praha 1\, Praha\, hlavní m
 ěsto\, 110 00\, Česká republika
GEO:50.0830744;14.4175702
X-APPLE-STRUCTURED-LOCATION;VALUE=URI;X-ADDRESS=Bartolomějská 11\, Praha 
 1\, Praha\, hlavní město\, 110 00\, Česká republika;X-APPLE-RADIUS=100
 ;X-TITLE=palác Konvikt:geo:50.0830744,14.4175702
END:VEVENT
BEGIN:VTIMEZONE
TZID:Europe/Prague
X-LIC-LOCATION:Europe/Prague
BEGIN:DAYLIGHT
DTSTART:20180325T030000
TZOFFSETFROM:+0100
TZOFFSETTO:+0200
TZNAME:CEST
END:DAYLIGHT
END:VTIMEZONE
END:VCALENDAR