BEGIN:VCALENDAR
VERSION:2.0
PRODID:-//wp-events-plugin.com//7.2.3.1//EN
BEGIN:VEVENT
UID:60@ventureclub.cz
DTSTART;TZID=Europe/Prague:20180529T180000
DTEND;TZID=Europe/Prague:20180529T200000
DTSTAMP:20221007T080504Z
URL:https://ventureclub.cz/udalost/umela-inteligence-we-teach-the-future/
SUMMARY:Umělá inteligence - we teach the future
DESCRIPTION:\n\n\n\nZveme členy klubu a příznivce na večer věnovaný u
 mělé inteligenci. Namísto původně ohlášeného profesora prof. Micha
 la Pěchoučka\, z katedry FEL ČVUT\, který pro zaneprázdnění nemohl 
 v žádném navrženém termínu\, vystoupí pan Petr Šrámek\, o němž 
 si více přečtěte v profilu níže. Petr Šrámek je pro nás ideální
  kombinací vědce a podnikatele.  Je zakladatelem unikátního a zajíma
 vého byznys konceptu "AI inkubátoru"\, v němž propojuje sféru akademi
 ckou a obchodní. Má rozsáhlé kontakty v oblasti vědecké\, politické
 \, podnikatelské i ve státní správě\; o umělé inteligenci předná
 šel nedávno například v Úřadu vlády ČR.\n\nNa jeho vystoupení se 
 těšíme a zveme všechny zájemce o obor\, který v budoucnu přinese ne
 jen mnohá (doufejme že jen pozitivní) překvapení\, ale poskytne i skv
 ělé podnikatelské možnosti.\n\nRezervace vstupenek níže (původní z
 ůstaly platné)\, vstup pro přihlášené. Podle zájmu zvažujeme změn
 u místa - bude upřesněno.\n\n\n\nKdo je Petr Šrámek?\nČeský vizion
 ář\, podnikatel\, mentor a popularizátor umělé inteligence. Věří\,
  že věda a technologie mohou pomoci lidstvu dosáhnout nové\, lepší 
 úrovně existence.  Po 27 letech úspěšné podnikatelské kariéry v o
 blasti informačních technologií založil a řídí AI Startup Incubator
 \, jehož cílem je vybrat ty nejlepší nápady a projekty\, využívají
 cí umělé inteligence\, a připravit je pro globální trh.\n\nPetrův A
 I Startup Incubator oslovují studenti\, podnikatelé\, ale i zaměstnanci
  velkých korporací. Přicházejí s myšlenkami\, které by jinak upadly
  v zapomnění\, protože nemají dostatek času\, prostředků a know-how
  pro jejich realizaci. „Žiji svůj sen"\, říká o inkubátoru Petr Š
 rámek. „V oboru AI neexistují hranice mezi státy. Naše hranice nám 
 tvoří pouze míra odvahy a zvídavosti\, a i tyto hranice každý den po
 souváme. Praha se díky našim projektům stává rovnocenným partnerem 
 Montrealu\, Londýna a Silicon Valley – hlavních center UI\, ve kterýc
 h se rodí elektronická budoucnost celé planety\," dodává.\n\n\n\nPetr
  je spoluzakladatelem Platformy umělé inteligence při Svazu průmyslu 
 České republiky\, který je poradním orgánem Evropské unie.  Od roku
  2016 je členem organizace Petera Diamandise „Abundance 360 Digital". O
 d roku 2018 zastupuje jako High Commissioner Českou republiku v organizac
 i „World Business Angels Investment Forum".\n\nDalší informace na jeho
  blogu: http://sramek.blog/\n\n\n\n\nTěšíme se na setkání\nVenture C
 lub z.s.
ATTACH;FMTTYPE=image/jpeg:https://ventureclub.cz/wp-content/uploads/2018/0
 3/AI_Sramek.jpg
CATEGORIES:Prezentace,Společenská akce
LOCATION:palác Konvikt\, Bartolomějská 11\, Praha 1\, Praha\, hlavní m
 ěsto\, 110 00\, Česká republika
GEO:50.0830744;14.4175702
X-APPLE-STRUCTURED-LOCATION;VALUE=URI;X-ADDRESS=Bartolomějská 11\, Praha 
 1\, Praha\, hlavní město\, 110 00\, Česká republika;X-APPLE-RADIUS=100
 ;X-TITLE=palác Konvikt:geo:50.0830744,14.4175702
END:VEVENT
BEGIN:VTIMEZONE
TZID:Europe/Prague
X-LIC-LOCATION:Europe/Prague
BEGIN:DAYLIGHT
DTSTART:20180325T030000
TZOFFSETFROM:+0100
TZOFFSETTO:+0200
TZNAME:CEST
END:DAYLIGHT
END:VTIMEZONE
END:VCALENDAR