BEGIN:VCALENDAR
VERSION:2.0
PRODID:-//wp-events-plugin.com//7.2.3.1//EN
BEGIN:VEVENT
UID:54@ventureclub.cz
DTSTART;TZID=Europe/Prague:20180424T170000
DTEND;TZID=Europe/Prague:20180424T200000
DTSTAMP:20221007T074209Z
URL:https://ventureclub.cz/udalost/uzavrene-sezeni-vyboru-spolku-a-vci/
SUMMARY:Uzavřené sezení Výboru spolku a VCI
DESCRIPTION:Rád bych tímto pozval na neveřejné setkání členy výboru
  spolku a společníky Venture Club Investu na 24.4.2018 od 17-20 hodin. M
 ísto konání je tentokrát jiné - pozor:\nAdresa: Pod Vinicí 72\, Prah
 a 12. Na konci ulice vlevo modrobílý pětipatrový dům "na kuřích no
 žkách". Stanice tramvaje Belárie (od metra z Palackého náměstí)\, 
 stanice autobusu u Belárie (ze Smíchovského nádraží). Parkovací m
 ísta k dispozici.\n\nProgram: bude upřesněn\, viz emaily.\n\nDěkuji. P
 rosím o potvrzení účasti.\nHezký den přeje\n\nPetr Šedivý\npředse
 da výboru spolku a jednatel VCI
CATEGORIES:Výbor klubu
LOCATION:Park Atrium u spol. 2N\, Pod Vinicí 2028/20\, Praha 12\, Česká 
 republika
GEO:50.0158484;14.404343599999947
X-APPLE-STRUCTURED-LOCATION;VALUE=URI;X-ADDRESS=Pod Vinicí 2028/20\, Praha
  12\, Česká republika;X-APPLE-RADIUS=100;X-TITLE=Park Atrium u spol. 2N:
 geo:50.0158484,14.404343599999947
END:VEVENT
BEGIN:VTIMEZONE
TZID:Europe/Prague
X-LIC-LOCATION:Europe/Prague
BEGIN:DAYLIGHT
DTSTART:20180325T030000
TZOFFSETFROM:+0100
TZOFFSETTO:+0200
TZNAME:CEST
END:DAYLIGHT
END:VTIMEZONE
END:VCALENDAR