BEGIN:VCALENDAR
VERSION:2.0
PRODID:-//wp-events-plugin.com//7.2.3.1//EN
BEGIN:VEVENT
UID:497@ventureclub.cz
DTSTART;TZID=Europe/Prague:20240610T164000
DTEND;TZID=Europe/Prague:20240610T205000
DTSTAMP:20250108T142832Z
URL:https://ventureclub.cz/udalost/valne-hromady-klubovych-spolecnosti-a-v
 ybor-spolku-3/
SUMMARY:Valné hromady klubových společností a Výbor spolku
DESCRIPTION:Vážení společníci a členové spolku Venture Club z.s.\, n
 a den 10. června 2024\, POZOR je to pondělí\,  jsou naplánované jedn
 otlivé valné hromady všech klubových společností. Prosím\, počíte
 jte rámcově s nimi. Všichni společníci obdrží ještě pozvánku ema
 ilem. Nicméně\, rámcově:\n\nProgram: schválení hospodářského výs
 ledku roku 2023\, obvykle drobné ztráty SPV společností. V podklady se
  jde seznámit předem v sídle společností\, denně 8-15 hodin\, v prac
 ovní dny\, od 30.5. včetně do 10.6. včetně\, nebo v místě konání 
 valných hromad\, vždy před zahájením jednání.\n\nMísto konání: P
 ark Atrium\, Modřany\, Praha 4\n\nZačátek: rámcově mezi 16:20 -20:20 
 hodin\, v drobných odstupech. Valné hromady jsou otevřené pro všechny
  společníky té které společnosti\, bez ohledu na to\, zda mají a neb
 o nemají hlasovací práva (některé kmenové listy nejsou nadány hlaso
 vacími právy\, či nejsou převzaty). Závěrečný Výbor spolku je dos
 tupný všem členům spolku\, přesto\, že hlasují pouze členové Výb
 oru spolku. Obecně\, pokud se nesejde dostatečné množství členů či
  společníků\, je v minimálním odstupu vyhlášena náhradní valná h
 romada\, která je pak usnášeníschopná v jakémkoliv počtu (neupravuj
 e-li se v stanovách  jinak).\n\nPoznámka: Společníci\, kteří mají 
 u sebe v držení KL se jimi musí prokázat\, jinak nebude umožněno hla
 sování. Společníci\, kteří mají v úschově KL u klubu\, pouze prok
 azují svou totožnost na požádání.\n\nHarmonogram: Proběhnou postupn
 ě valné hromady společností (bude upřesněno\, předběžně):\n\n15:
 15 Klíčanka CD s.r.o. (neveřejná)\n\n15:45 Venture Club Invest s.r.o.\
 , osoba rizikového kapitálu (neveřejná)\n\n16:20 ABC Space s.r.o. (nev
 eřejná)\n\n16:40 ABC Space Be s.r.o. (Behavee\, pro společníky\, i inv
 estory fondu)\n\n17:00 Venture Club LF s.r.o. (LaFluence\, i pro budoucí 
 společníky s nepřevzatými KL\, i investory fondu)\n\n17:30 Venture Clu
 b Charging s.r.o. (Greenbuddies Charging\, i pro budoucí společníky s n
 epřevzatými KL)\n\n18:00 Venture Club ZBR s.r.o. (Zebra\, pro stávajíc
 í i budoucí společníky s nepřevzatými KL).\n\n18:30 Venture Club SNZ
  s.r.o. (Sanezoo držitelé kmenových listů\, nikoliv akcií)\n\n19:00 V
 enture Club SPV2 a SPV4 s.r.o. (Stavario investoři)\n\n19:30 Venture Club
  z.s. (výbor a členové spolku)\n\n(Venture Club ERC s.r.o.  a Venture 
 Club SPV3\, 5\,6\,7 a 8 s.r.o. : společníkem je jen Venture Club Invest 
 s.r.o.\, osoba rizikového kapitálu\, VH jsou neveřejné a v náhradním
  termínu.)\n\n&nbsp\;\n\nRegistrace na akci předem nutná (stačí jedna
 \, i když se účastníte vícero hromad) . Pokud držíte kmenový list 
 u sebe - je nutné se jím na VH prokázat (nemáte-li ho u klubu v úscho
 vě). Jinak nebude umožněno hlasování. U budoucích společníků s ne
 převzatými kmenovými listy platí\, že nehlasují - přesto jsou srde
 čně zváni. Obecně: hlasují jen společníci s převzatými kmenovými
  listy nadanými hlasovacími právy. Děkujeme za pochopení.\n\nČást v
 ečera bude streamovaná - konkrétně od 17ti hodin. Informace k LF\, GBC
 H\, ZEBRA GROUP\, Sanezoo\, Stavario  a navazující Výbor\, klubová č
 ást. Počítáme s zodpovězením dotazů i k projektům. Registrace je t
 entokrát jen pro členy\, děkujeme za pochopení. Otevřená akce bude z
 ase ta další.\n\nMUDr. Petr Šedivý\, jednatel\n\nV Praze\, dne 22.4.20
 23\n\n&nbsp\;
ATTACH;FMTTYPE=image/jpeg:https://ventureclub.cz/wp-content/uploads/2022/0
 5/VH_image-e1658323483236.jpg
CATEGORIES:Členská schůze,Výbor klubu
LOCATION:Park Atrium u spol. 2N\, Pod Vinicí 2028/20\, Praha 12\, Česká 
 republika
GEO:50.0158484;14.404343599999947
X-APPLE-STRUCTURED-LOCATION;VALUE=URI;X-ADDRESS=Pod Vinicí 2028/20\, Praha
  12\, Česká republika;X-APPLE-RADIUS=100;X-TITLE=Park Atrium u spol. 2N:
 geo:50.0158484,14.404343599999947
END:VEVENT
BEGIN:VTIMEZONE
TZID:Europe/Prague
X-LIC-LOCATION:Europe/Prague
BEGIN:DAYLIGHT
DTSTART:20240331T030000
TZOFFSETFROM:+0100
TZOFFSETTO:+0200
TZNAME:CEST
END:DAYLIGHT
END:VTIMEZONE
END:VCALENDAR