BEGIN:VCALENDAR
VERSION:2.0
PRODID:-//wp-events-plugin.com//7.2.3.1//EN
BEGIN:VEVENT
UID:589@ventureclub.cz
DTSTART;TZID=Europe/Prague:20250520T140000
DTEND;TZID=Europe/Prague:20250520T210000
DTSTAMP:20250512T210030Z
URL:https://ventureclub.cz/udalost/valne-hromady-klubovych-spolecnosti-a-v
 ybor-spolku-4/
SUMMARY:Valné hromady klubových společností a Výbor spolku
DESCRIPTION:Vážení společníci a členové spolku Venture Club zs\, na 
 den 20. května 2025 \, jsou naplánované jednotlivé valné hromady vše
 ch klubových společností. Prosím\, počítejte rámcově s nimi. Všic
 hni společníci dostávají ještě pozvánku emailem.\n\nProgram : schv
 álení hospodářského výsledku roku 2024\, obvykle drobné ztráty SPV
  společností. S podklady se jde seznámit předem v sídle společností
 \, denně 8-15 hodin\, v pracovní dny dva týdny před konáním VH\, po 
 předchozí domluvě\, nebo v místě konání valných hromad\, vždy př
 ed zahájením jednání. Podklady byly součástí posílaných pozvánek
 .\n\nMísto konání: Park Atrium\, Modřany\, Praha 4\n\nZačátek : mezi
  14:00 -20:30 hodin\, v drobných odstupech. Valné hromady jsou otevřen
 é pro všechny společníky té které společnosti\, bez ohledu na to\, 
 zda mají a nemají hlasovací práva (některé kmenové listy nejsou nad
 ány hlasovacími právy\, či nejsou převzaty). Závěrečný Výbor spo
 lku je dostupný všem členům spolku\, přesto\, že hlasují pouze čle
 nové Výboru spolku. Obecně\, pokud se nesejde dostatečné množství 
 členů či společníků\, je v minimálním odstupu vyhlášena náhradn
 í valná hromada\, která je pak usnášeníschopná v jakémkoliv počtu
  (neupravuje-li se ve stanovách jinak) .\n\nPoznámka: Společníci\, kte
 ří mají u sebe v držení KL se jimi musí prokázat\, jinak nebude dov
 oleno hlasování. Společníci\, kteří mají v úschově KL u klubu\, p
 ouze prokazují svou totožnost na žádost.\n\nHarmonogram: Proběhnou po
 stupně valné hromady společností:\n\n14:30 Klíčanka CD s.r.o. (neve
 řejná)\n\n15:00 Venture Club Invest s.r.o.\, osoba rizikového kapitálu
  (neveřejná)\n\n 16:15 ABC Space Be s.r.o. (Behavee\, pro společník
 y\, i investory fondu)\n\n16:30 Venture Club LF s.r.o. (LaFluence\, i pro
  budoucí společníky s nepřevzatými KL\, i investory fondu)\n\n17:00 V
 enture Club Charging s.r.o. (Greenbuddies Charging\, i pro budoucí spole
 čníky s nepřevzatými KL)\n\n17:30 Venture Club ZBR s.r.o. (Zebra\, pr
 o stávající i budoucí společníky s nepřevzatými KL).\n\n18:15 Vent
 ure Club SNZ s.r.o. (SPV1) (Sanezoo držitelé kmenových listů\, nikoli
 v akcií)\n\nPauza 10 minut\n\n19:00 Venture Club STVR  s.r.o. (SPV2 a S
 PV4) (Stavario investoři)\n\n19: 30 Venture Club TVF1 (SPV3)  - jen info
 rmace\, bez VH – běží per rollam (Tensor Ventures Fond 1 investoři\,
  všichni)\n\n19:40 Venture Club BSVM (SPV6) (Bioplynová stanice Velké M
 eziříčí)\n\n20:00 Venture Club z.s. (výbor a členové spolku)\n\n(V
 enture Club ERC s.r.o.  a Venture Club SPV 5 (TWC)\,7 a 8 (Faktoring)\, 9
 \, 10\,11\,12\,13 s.r.o. : společníkem je (bude v době konání VH) jen
  Venture Club Invest s.r.o.\, osoba rizikového kapitálu\, VH jsou neveř
 ejné a v náhradním termínu.)\n\n&nbsp\;\n\n&nbsp\;\n\nRegistrace na ak
 ci předem nutná (stačí jedna\, i když se účastníte vícero hromad)
  . Pokud držíte kmenový list u sebe - je nutné se jím na VH prokázat
  (nemáte-li ho u klubu v úschově). Jinak nebude možné hlasování. U 
 budoucích společníků s nepřevzatými kmenovými listy platí\, že ne
 hlasují - přesto jsou srdečně zváni. Obecně: hlasují jen společní
 ci s převzatými kmenovými listy nadanými hlasovacími právy. Děkujem
 e za pochopení.\n\nČást večera bude streamovaná - konkrétně od 16.1
 5 hodin. Informace k klubovým společnostem a navazující Výbor\, klubo
 vá část. Počítáme s zodpovězením dotazů ik projektům. Registrace
  je tentokrát jen pro členy\, děkujeme za pochopení. Otevřená akce b
 ude zase ta další.\n\nPřednáší MUDr. Petr Šedivý\, jednatel
ATTACH;FMTTYPE=image/jpeg:https://ventureclub.cz/wp-content/uploads/2022/0
 5/VH_image-e1658323483236.jpg
CATEGORIES:Členská schůze,Výbor klubu
LOCATION:Park Atrium u spol. 2N\, Pod Vinicí 2028/20\, Praha 12\, Česká 
 republika
GEO:50.0158484;14.404343599999947
X-APPLE-STRUCTURED-LOCATION;VALUE=URI;X-ADDRESS=Pod Vinicí 2028/20\, Praha
  12\, Česká republika;X-APPLE-RADIUS=100;X-TITLE=Park Atrium u spol. 2N:
 geo:50.0158484,14.404343599999947
END:VEVENT
BEGIN:VTIMEZONE
TZID:Europe/Prague
X-LIC-LOCATION:Europe/Prague
BEGIN:DAYLIGHT
DTSTART:20250330T030000
TZOFFSETFROM:+0100
TZOFFSETTO:+0200
TZNAME:CEST
END:DAYLIGHT
END:VTIMEZONE
END:VCALENDAR