BEGIN:VCALENDAR
VERSION:2.0
PRODID:-//wp-events-plugin.com//7.2.3.1//EN
BEGIN:VEVENT
UID:155@ventureclub.cz
DTSTART;TZID=Europe/Prague:20200623T174500
DTEND;TZID=Europe/Prague:20200623T183000
DTSTAMP:20221007T082059Z
URL:https://ventureclub.cz/udalost/valne-hromady-vc-spolecnosti/
SUMMARY:Výbor a valné hromady VC společností
DESCRIPTION:v úterý 23.6. se uskuteční valné hromady všech společnos
 tí napojených na Venture Club a Venture Club Invest. Rádi by jsme Vás 
 pozvali na výbor Venture Clubu - jeho sezení bude veřejné. Chcete-li 
 se účastnit\, pro členy bude jednání přístupné. Na sezení pak nav
 áže rekapitulace projektů - ta má přihlášení samostatné - viz kal
 endář klubu. Rekapitulace bude přístupná i online - prosím\, rozliš
 ujte při přihlášení.\n\nNíže je možné přihlášení na výbor Ve
 nture Clubu\, jste-li členy.\n\nProgram:\n\n 	Zahájení jednání\n 	Sch
 válení účetní závěrky Spolku za rok 2019\n 	Rozhodnutí o vypořád
 ání výsledku hospodaření Spolku za rok 2019\n 	Projednání organiza
 čních věcí – cíle a další rozvoj Spolku\, končící druhé funk
 ční období výboru\n 	Závěr\n\nPozvánka ke stáhnutí je zde.\n\nTě
 šíme se na viděnou\, ať už osobně nebo online.\n\nZa výbor Venture 
 Clubu\n\nPetr Šedivý
LOCATION:Park Atrium u spol. 2N\, Pod Vinicí 2028/20\, Praha 12\, Česká 
 republika
GEO:50.0158484;14.404343599999947
X-APPLE-STRUCTURED-LOCATION;VALUE=URI;X-ADDRESS=Pod Vinicí 2028/20\, Praha
  12\, Česká republika;X-APPLE-RADIUS=100;X-TITLE=Park Atrium u spol. 2N:
 geo:50.0158484,14.404343599999947
END:VEVENT
BEGIN:VTIMEZONE
TZID:Europe/Prague
X-LIC-LOCATION:Europe/Prague
BEGIN:DAYLIGHT
DTSTART:20200329T030000
TZOFFSETFROM:+0100
TZOFFSETTO:+0200
TZNAME:CEST
END:DAYLIGHT
END:VTIMEZONE
END:VCALENDAR