BEGIN:VCALENDAR
VERSION:2.0
PRODID:-//wp-events-plugin.com//7.2.3.1//EN
BEGIN:VEVENT
UID:179@ventureclub.cz
DTSTART;TZID=Europe/Prague:20201217T190000
DTEND;TZID=Europe/Prague:20201217T203000
DTSTAMP:20221007T080840Z
URL:https://ventureclub.cz/udalost/vanocni-koncert-bennewitzova-kvarteta-2
 /
SUMMARY:Vánoční koncert Bennewitzova kvarteta
DESCRIPTION:Již tradičně se setkáme na Vánočním koncertě se špičk
 ovým Bennewitzovým kvartetem. Díky trvajícímu omezení\, forma bude n
 akonec on-line stream. Měli jsme předjednané pěkné místo s výhledem
  nad střechy Prahy a Pražský hrad\, tam se podíváme - nedá se nic d
 ělat - jindy. Nicméně\, chceme si dopřát kulturní zážitek a hlavn
 ě\, chceme podpořit pořádáním koncertu umělce. Proto:\n\nVenture Cl
 ub zajistí sál a techniku pro kvalitní přenos a záznam\, účastníci
  svým on-line zakoupeným vstupem pak honoráře. Připojíte se?\n\nProg
 ram\, opět v podání Jakub Fišer - 1.housle\, Štěpán Ježek - 2.hous
 le\, Jiří Pinkas - viola a Štěpán Doležal - violoncello:\n\nA. Dvoř
 ák - op. 61 - 1. věta\n\nJ. Haydn - op. 54 č. 2 - 1. věta\n\nW. A. Moz
 art - "Malá noční hudba" - 1. věta\n\nL. van Beethoven - op. 132 - 3. 
 věta "Heiliger Dankgesang"\n\nV. Sommer - Kvartet č. 1 - 1. věta\n\nA. 
 Dvořák - op. 96 "Americký" - 1. (nebo 2.) a 4. věta\n\nZačínáme Ant
 onínem Dvořákem na začátek\,  budeme mít Dvořáka i na konec - kru
 h se tak uzavře. Těšíme se \, že návštěva několika období přisp
 ěje k příjemné atmosféře adventu. Předpokládané trvání koncertu
  bude cca 1\,5 hodiny.\n\nVstupné je dobrovolné - doporučujeme minimál
 ně 250 Kč.  Pokud přispějete 500 Kč či více\, máte u nás navíc 
 CD Bennewitzova kvarteta. Pokud přispějete 1000 Kč a více\, máte u n
 ás CD i s podpisy členů kvarteta. Nabídka CD - viz níže - k vstupenc
 e platí pro prvních 30 zájemců.\n\n  \n\nPlatbu vstupného zašlete n
 a číslo učtu Venture Clubu: 2901082903 / 2010. Do zprávy pro příjemc
 e dejte prosím své jméno\, jako VS pak datum - číslo ve tvaru: 171220
 20. Níže se prosím registrujte pro odeslání linku pro sledování on-
 line\, případně stačí i poslat zprávu emailem. Zaevidujeme si Vás. 
 Děkujeme.\n\nVstupné bude vítaný příspěvek - kultura je také jedno
  z postižených odvětví. Rádi pomáháme! Těšíme se na setkání\, 
 přátelé\n\nHezký advent\, krásné Vánoce !\n\nRadim Horák a Petr Š
 edivý
ATTACH;FMTTYPE=image/jpeg:https://ventureclub.cz/wp-content/uploads/2022/0
 8/bennewitzovo-kvarteto_kamil-ghais.jpg
CATEGORIES:Společenská akce
END:VEVENT
BEGIN:VTIMEZONE
TZID:Europe/Prague
X-LIC-LOCATION:Europe/Prague
BEGIN:STANDARD
DTSTART:20201025T020000
TZOFFSETFROM:+0200
TZOFFSETTO:+0100
TZNAME:CET
END:STANDARD
END:VTIMEZONE
END:VCALENDAR