BEGIN:VCALENDAR
VERSION:2.0
PRODID:-//wp-events-plugin.com//7.2.3.1//EN
BEGIN:VEVENT
UID:126@ventureclub.cz
DTSTART;TZID=Europe/Prague:20191210T190000
DTEND;TZID=Europe/Prague:20191210T213000
DTSTAMP:20221007T074229Z
URL:https://ventureclub.cz/udalost/vanocni-punc-2/
SUMMARY:Vánoční punč
DESCRIPTION:Tradiční vánoční posezení s punčem a povídáním\, prob
 ěhne opět v komorní atmosféře paláce Konvikt. (Pozor\, potkáme se v
  19 hodin\, proti původnímu času.) Přijďte se na chvíli zastavit v p
 ředvánočním shonu mezi přátele. Ochutnáme cukroví - přineste vzor
 ky. Podíváme se zase po pěkných obrázkách z cest\, jako minulé roky
 .\n\nA komu to nevyjde (a neuvidíme se  na snídani nebo na Vánočním 
 koncertu 17.12.)\, přejeme již teď klidné svátky\, hodně zdraví do 
 nového i Nového roku a na viděnou v roce 2020.\n\npřeje za Venture Clu
 b\n\nPetr Šedivý
ATTACH;FMTTYPE=image/jpeg:https://ventureclub.cz/wp-content/uploads/2019/0
 7/2018-12-18-18.45.07-e1564406033657-scaled.jpg
CATEGORIES:Společenská akce
LOCATION:palác Konvikt\, Bartolomějská 11\, Praha 1\, Praha\, hlavní m
 ěsto\, 110 00\, Česká republika
GEO:50.0830744;14.4175702
X-APPLE-STRUCTURED-LOCATION;VALUE=URI;X-ADDRESS=Bartolomějská 11\, Praha 
 1\, Praha\, hlavní město\, 110 00\, Česká republika;X-APPLE-RADIUS=100
 ;X-TITLE=palác Konvikt:geo:50.0830744,14.4175702
END:VEVENT
BEGIN:VTIMEZONE
TZID:Europe/Prague
X-LIC-LOCATION:Europe/Prague
BEGIN:STANDARD
DTSTART:20191027T020000
TZOFFSETFROM:+0200
TZOFFSETTO:+0100
TZNAME:CET
END:STANDARD
END:VTIMEZONE
END:VCALENDAR