BEGIN:VCALENDAR
VERSION:2.0
PRODID:-//wp-events-plugin.com//7.2.3.1//EN
BEGIN:VEVENT
UID:625@ventureclub.cz
DTSTART;TZID=Europe/Prague:20260602T190000
DTEND;TZID=Europe/Prague:20260602T230000
DTSTAMP:20251023T120518Z
URL:https://ventureclub.cz/udalost/venture-club-disrupt-awards-2026/
SUMMARY:Venture Club Disrupt Awards 2026
DESCRIPTION:Akce Pitch Night v květnu 2024 a Startup Disrupt v červnu 202
 5 se nám i divákům líbila. Stále hledáme zajímavé firmy\, ale inve
 stovat můžeme jen nejlepší. Tak jsme se rozhodli vše zopakovat a  op
 ět se přidat k Startup Disrupt a k večeru 3.6. s nimi pořádáme Ventu
 re Club Disrupt Awards 2026\, Pitch Night a Founders Party.\n\nNa konferen
 ci se každý den čeká na 500 hostů a mluvčích - běží anglicky. V 
 rámci večera 3.6. vítězové předkol soutěže o nejzajímavější st
 artup se budou ucházet o hlavní cenu a investice až 1 milion Eur (pokud
  uspěje navazujícím Dnu D 10.6.) či až 3 miliony Eur (ve spolupráci 
 s Katar Investment Fund). Pitch Night se budeme snažit mít s překladate
 lem do českého jazyka. Navazující networking a Founders Party si jist
 ě všichni užíváme. Martinický palác je skvělé místo. Přijďte.\
 n\nUvidíte 5 firem\, první tři dostanou cenu hned. Vítěz večera se p
 ak znovu o týden později může pokusit přesvědčit investory na Dnu D
  a dostat další konkrétní investice.\nPřihlášení na Venture Club D
 isrupt Awards 2026\nRegistrace na akci v úterý je od 18 hodin\, vlastní
  večerní prezentace začíná od 19 hodin.\n\nPokud se přes nás regist
 rujete\, můžete se zúčastnit celé dva dny a "naklikat si" co Vás zaj
 ímá. Stejně tak\, jen být na "naši" části\, úterý večer\, zdarma
 . Registrace na večer je od 18ti hodin. Venture Club Disrupt Awards 2026 
 poběží od 19ti hodin. Po prezentačních porotách vyhodnotí a ocení 
 nejzajímavější startup. Nakonec se účastníci připojí na párty a 
 networking\, které následují a jsou jak pro účastníky konference\, t
 ak Venture Club Disrupt Awards 2026.\n\nZveme Vás na konferenci Innovatio
 ns United 2026 \, která se bude konat 3. a 4. června v srdci Prahy\, v M
 artinickém paláci na Pražském hradě !\n\nNejedná se o pouhou technol
 ogickou konferenci – je to místo setkání globálních inovátorů\, z
 akladatelů\, investorů a lídrů odvětví \, kteří utvářejí budouc
 nost umělé inteligence\, udržitelnosti\, deep tech\, inovací v oblasti
  obrany a dalších oborů.\n\nChcete se přihlásit sami\, přihlásit sv
 ůj startup nebo navrhnout někoho jiného\, ​​​​​aby měl šanc
 i prezentovat se investorům\, kteří mají k dispozici až 3 000 000 EUR
  připravených k investování? Přihlaste svůj startup zde: \n\nJako 
 členové naší komunity bychom vám rádi poděkovali za vaši podporu a
  pozvali vás na tuto úžasnou událost . Vstupenka vám zajistí příst
 up na soukromé schůzky s lídrem inovativního průmyslu\, investorů a 
 inovátorů z celé Evropy.\n\nJe to více než jen konference\, je to př
 íležitost.\n\n📍 Místo: Martinický palác\, Hradčanské náměstí\
 , Praha\n\n📅 Datum: 2. – 4. června 2026\,\n\nČást vám přinese ce
 nné informace o trendech a strategiích ve světě technologií a inovac
 í\, ale také příležitostí získat důležité kontakty v exkluzivní
 m síťovém prostředí.\n\nÚčast vám prosím co nejdříve \, abychom
  mohli poskytnout všechny VIP výhody. Nabídka platí do "vyprodání".K
 apacita akce je omezena! Zaregistrujte se ještě dnes a zajistěte si mí
 sto mezi lídry technologického světa!\n\nV případě požadavků nebo 
 specifických požadavků nás neváhejte kontaktovat.\n\nTěšíme se na 
 vás!\n\nAkce je dostupná všem  OSOBNĚ a přes přihlášení přes Ve
 nture Club\, partnerská akce\, zdarma \, po registraci předem. \n\nPoč
 et míst je omezen. Občerstvení zajištěno. Na akci bude pořízen záz
 nam a fotodokumentace - přihlášením zájemci souhlasím s pořízením
  a užitím dokumentace pro potřeby Venture Clubu a Startup Disrupt.\n\nT
 ěšíme se na viděnou.\n\nPetr Šedivý a Patrik Juránek\n\n&nbsp\;
ATTACH;FMTTYPE=image/jpeg:https://ventureclub.cz/wp-content/uploads/2025/0
 6/VCDAwards.jpg
CATEGORIES:Den D,Prezentace,Společenská akce
LOCATION:Martinický palác\, Hradčanské nám. 67\, Praha\, Česká repub
 lika
GEO:50.08994;14.395177
X-APPLE-STRUCTURED-LOCATION;VALUE=URI;X-ADDRESS=Hradčanské nám. 67\, Pra
 ha\, Česká republika;X-APPLE-RADIUS=100;X-TITLE=Martinický palác:geo:5
 0.08994,14.395177
END:VEVENT
BEGIN:VTIMEZONE
TZID:Europe/Prague
X-LIC-LOCATION:Europe/Prague
BEGIN:DAYLIGHT
DTSTART:20260329T030000
TZOFFSETFROM:+0100
TZOFFSETTO:+0200
TZNAME:CEST
END:DAYLIGHT
END:VTIMEZONE
END:VCALENDAR