BEGIN:VCALENDAR
VERSION:2.0
PRODID:-//wp-events-plugin.com//7.2.3.1//EN
BEGIN:VEVENT
UID:526@ventureclub.cz
DTSTART;TZID=Europe/Prague:20250603T190000
DTEND;TZID=Europe/Prague:20250603T230000
DTSTAMP:20250602T101537Z
URL:https://ventureclub.cz/udalost/venture-club-pitch-night-2/
SUMMARY:Venture Club Disrupt Awards 2025
DESCRIPTION:Akce Pitch Night v květnu 2024 se nám i hledám divákům lí
 bila a stále zajímavé firmy\, ale investovat můžeme jen nejlepší. T
 ak jsme se rozhodli letos vše posunout speciálně opět na lepší level
  a přidali se k Startup Disrupt a konferenci Innovations United 2025 - a 
 k večeru 3.6. Pořádáme s nimi Venture Club Disrupt Awards 2025\, Pitch
  Night a Founders Party.\n\nNa konferenci se každý den čeká na 500 hos
 tů a mluvčích - běží anglicky. V rámci večera 3.6. vítězové př
 edkol soutěže o nejzajímavější startup se budou ucházet o hlavní c
 enu a investice až 1 milion Eur (pokud uspěje navazujícím Dnu D 10.6.)
  či až 3 miliony Eur (ve spolupráci s Katar Investment Fund). Pitch Nig
 ht běží česky. Navazující networking a Founders Party si jistě vši
 chni užíváme. Martinický palác je skvělé místo. Přijďte.\n\nUvid
 íte 5 firem\, první tři dostanou cenu hned. Vítěz večera se pak znov
 u o týden později může pokusit přesvědčit investory na Dnu D a dost
 at další konkrétní investice.\nPřihlášení na Venture Club Disrupt 
 Awards 2025 je zde  \nRegistrace na akci v úterý je od 18 hodin\, vlast
 ní večerní prezentace začíná od 19 hodin.\n\nPokud se přes nás reg
 istrujete\, můžete se zúčastnit celé dva dny a "naklikat si" co Vás 
 zajímá. Stejně tak\, jen být na "naši" části\, pondělí večer\, z
 darma. Registrace na večer je od 18ti hodin. Venture Club Disrupt Awards 
 2025 poběží od 19ti hodin. Po prezentačních porotách vyhodnotí a oc
 ení nejzajímavější startup. Nakonec se účastníci připojí na pár
 ty a networking\, které následují a jsou jak pro účastníky konferenc
 e\, tak Venture Club Disrupt Awards 2025.\n\n\n\nZveme Vás na konferenci 
 Innovations United 2025 \, která se bude konat 3. a 4. června v srdci Pr
 ahy\, v Martinickém paláci na Pražském hradě ! Je nám ctí oznámit\
 , že konference Innovations United 2025 \, která se bude konat ve dnech 
 3. až 5. června 2025 \, získala oficiální záštitu prezidenta Česk
 é republiky\, JE  Petra Pavla\, který vystoupí s úvodním proslovem .\
 n\nNejedná se o pouhou technologickou konferenci – je to místo setkán
 í globálních inovátorů\, zakladatelů\, investorů a lídrů odvětv
 í \, kteří utvářejí budoucnost umělé inteligence\, udržitelnosti\
 , deep tech\, inovací v oblasti obrany a dalších oborů. S hrdostí ozn
 amujeme\, že Innovations United 2025 je finančně podporována Magistrá
 tem hlavního města Prahy .\n\nChcete se přihlásit sami\, přihlásit s
 vůj startup nebo navrhnout někoho jiného\, ​​​​​aby měl šan
 ci prezentovat se investorům\, kteří mají k dispozici až 3 000 000 EU
 R připravených k investování? Přihlaste svůj startup zde: https://fo
 rms.gle/vDD5Mjd9sr3BxXhL9\n\nJako členové naší komunity bychom vám r
 ádi poděkovali za vaši podporu a pozvali vás na tuto úžasnou událos
 t . Vstupenka vám zajistí přístup na soukromé schůzky s lídrem inov
 ativního průmyslu\, investorů a inovátorů z celé Evropy.\n\nZískejt
 e vstupenku zdarma a zaregistrujte se zde!\n\nJe to více než jen konfere
 nce\, je to příležitost:\n\n✅ Setkat se s Hanae Taxis (CERN)\, Mart N
 oorma (NATO CCDCOE\, Darkstar) \, Dr. Kim J.  Zietlow (Invest Hong Kong)\,
  Michala Valko (bývalý Google DeepMind)\, Alexandry Kala (Profimed)\, Ja
 na Kavalírka (Ministerstvo průmyslu a obchodu)\, Michael Malatin (Redonh
 oytinové Všetin)\, Michael Malaytin Všetin Paul (Redonhoytinové Všeti
 nové Paul) MatounéVše Paul Havleny (Apoco)\, Michala Illicha (Zuri)\, M
 ichala Kolomazníka (Microsoft)\,  Kate Simková (CloseRocket)\, Tatana Ma
 karenko (Miss Czech Republic)\, Tereza Mikovcová (BIOCEV)\, Klára Kolouc
 hová (první Češka\, kterála tři nejvyšší vrcholy světa)\, Daniel
  Vejsada (PRK Partners)\, ŠDANT Group Pavel Rystíř (ŠDANT Group Pavel 
 Rystíř Group Partner Rytíř (DLA Piper) a další.\n\n✅ Získejte př
 ístup k nejnovějším technologickým trendům a lídrům v oblasti inov
 ací z celé Evropy\n\n✅ Možnost vystoupit na pódiu – v hlavním pro
 gramu nebo na tematických summitech\n\n✅ Navažte kontakty se startupy\
 , investory\, zástupci vlád a globálními korporacemi\n\n✅ Zvyšte vi
 ditelnost své značky mezi předními hráči v oblasti inovací a techno
 logií\n\n🎯 Hlavní program pro tělo:\n\n⚛️ Summit inovací a tech
 nologie 3.6. – AI\, digitalizace\, kybernetická bezpečnost\n\n⚛️ D
 efSec Summit 3.6. – Budoucnost bezpečnosti a digitální infrastruktury
 \, inovace v oblasti velení a řízení (C2)\, inovace v elektronickém b
 oji\, vícevrstvá protivzdušná a protiraketová obrana\n\n⚛️ Ventur
 e Club Disrupt Awards 2025 - 3.6. večer – Ocenění nejvýznamnějšíc
 h startupů a inovací.\n\n⚛️ Summit o udržitelné budoucnosti 4.6. 
 – ESG\, udržitelnost a zelené technologie\n\n⚛️ Summit žen ve ved
 oucích pozicích 4.6. – Ženy ve vedoucích pozicích v korporacích\, 
 startupech a malých a středních podnicích\n\n📍 Místo: Martinický 
 palác\, Hradčanské náměstí\, Praha\n\n📅 Datum: 3. – 4. června 
 2025\, úterý od 12:00 CET\, večer o 19ti hodin\, středa od 9 hodin.\n\
 n&nbsp\;\n\n🔗 Odkaz na konferenci\n\n&nbsp\;\n\nČást vám přinese ce
 nné informace o trendech a strategiích ve světě technologií a inovac
 í\, ale také příležitostí získat důležité kontakty v exkluzivní
 m síťovém prostředí.\n\nÚčast vám prosím co nejdříve \, abychom
  mohli poskytnout všechny VIP výhody. Nabídka platí do "vyprodání".K
 apacita akce je omezena! Zaregistrujte se ještě dnes a zajistěte si mí
 sto mezi lídry technologického světa!\n\nV případě požadavků nebo 
 specifických požadavků nás neváhejte kontaktovat.\n\nTěšíme se na 
 vás!\n\n&nbsp\;\n\nAkce je dostupná všem  OSOBNĚ a přes přihlášen
 í přes Venture Club\, partnerská akce\, zdarma \, po registraci předem
 . \n\nPočet míst je omezen. Občerstvení zajištěno. Na akci bude po
 řízen záznam a fotodokumentace - přihlášením zájemci souhlasím s 
 pořízením a užitím dokumentace pro potřeby Venture Clubu a Startup D
 isrupt.\n\nTěšíme se na viděnou.\n\nPetr Šedivý a Patrik Juránek\n\
 n&nbsp\;
ATTACH;FMTTYPE=image/jpeg:https://ventureclub.cz/wp-content/uploads/2024/0
 9/VCDA2025_Banner_sm.jpg
CATEGORIES:Den D,Prezentace,Společenská akce
LOCATION:Martinický palác\, Hradčanské nám. 67\, Praha\, Česká repub
 lika
GEO:50.08994;14.395177
X-APPLE-STRUCTURED-LOCATION;VALUE=URI;X-ADDRESS=Hradčanské nám. 67\, Pra
 ha\, Česká republika;X-APPLE-RADIUS=100;X-TITLE=Martinický palác:geo:5
 0.08994,14.395177
END:VEVENT
BEGIN:VTIMEZONE
TZID:Europe/Prague
X-LIC-LOCATION:Europe/Prague
BEGIN:DAYLIGHT
DTSTART:20250330T030000
TZOFFSETFROM:+0100
TZOFFSETTO:+0200
TZNAME:CEST
END:DAYLIGHT
END:VTIMEZONE
END:VCALENDAR