BEGIN:VCALENDAR
VERSION:2.0
PRODID:-//wp-events-plugin.com//7.2.3.1//EN
BEGIN:VEVENT
UID:255@ventureclub.cz
DTSTART;TZID=Europe/Prague:20210601T180000
DTEND;TZID=Europe/Prague:20210601T203000
DTSTAMP:20221007T081957Z
URL:https://ventureclub.cz/udalost/vino-jako-alternativni-investice/
SUMMARY:Víno jako alternativní investice
DESCRIPTION:Večerem nás provede Martin Marek\, somelier\, z firmy Alifea.
  (Aliefa je dovozce a obchodník s víny\, napojený na Liv-ex\, London In
 ternational Vintners Exchange.) Potkali jsme se s Martinem na jedné zají
 mavé charitativní aukci starých ročníků vín\, známe ho řadu let. 
 Martin v minulosti působil například v restauracích La Casa Argentina\
 , Dock House\, Wines Home nebo společnosti Vins de France. S vínem pracu
 je více než 15 let\, je členem Asociace Sommelierů České Republiky a
  účastníkem sommelierských soutěží. A protože diverzifikace invest
 ic je potřeba a informací není nikdy dost\, dohodli jsme se na uspořá
 dání večera u nás ve Venture Clubu.\n\nVíno jako investice? Ano! Pok
 ud máte rádi špičková vína\, vězte\, že víno v prémiové podobě
  může být i jako investice. Je to komodita jako každá jiná. Stejně 
 jako drahé kovy\, akcie či dluhopisy má své investiční příležitos
 ti. Pro ty\, kteří víno milují jako ušlechtilý nápoj\, je možnost 
 nákupu En Primeuer lákavou příležitostí nakoupit skvělá vína za m
 éně než velkoobchodní cenu a více či méně vyčkat \,\,lahvové zra
 losti". Pro ty\, co by jej vnímali jako pouze obchodní příležitost\, 
 je to cesta jak zhodnotit alternativním způsobem své peníze.\n\nTěši
 t se tak můžete na zajímavé informace z oblasti investování do vín 
 a vůbec vinařství. Pokud se uvidíme osobně\, zajímavou prezentaci si
  zpříjemníme malou ochutnávkou skvělých vín.\n\nOsobní účast bud
 e pro řádné členy  až 2 místa - pro základní členy 1 místo - v 
 ceně členství (případné další placeně) - registrace je možná po
  přihlášení do webu klubu níže. ON-LINE účast je možná všem.\n
 \nČeká nás inspirativní večer. Na zdraví a investování zdar !\n\nP
 etr Šedivý\, Daniela Součková a Martin Marek\n\nP.S.\n\nMísto akce bu
 de Konvikt\, přeci jen doprava je lepší z centra a bude nás do 20ti li
 dí celkem. Opět platí: počítáme\, že se cítíte zdrávi\, prošli 
 jste očkováním\, negativním testem nebo prodělali covid19. Děkujeme 
 za odpovědný přístup.
ATTACH;FMTTYPE=image/jpeg:https://ventureclub.cz/wp-content/uploads/2022/0
 8/vinoalifea_vc.png
CATEGORIES:Prezentace,Společenská akce
LOCATION:palác Konvikt\, Bartolomějská 11\, Praha 1\, Praha\, hlavní m
 ěsto\, 110 00\, Česká republika
GEO:50.0830744;14.4175702
X-APPLE-STRUCTURED-LOCATION;VALUE=URI;X-ADDRESS=Bartolomějská 11\, Praha 
 1\, Praha\, hlavní město\, 110 00\, Česká republika;X-APPLE-RADIUS=100
 ;X-TITLE=palác Konvikt:geo:50.0830744,14.4175702
END:VEVENT
BEGIN:VTIMEZONE
TZID:Europe/Prague
X-LIC-LOCATION:Europe/Prague
BEGIN:DAYLIGHT
DTSTART:20210328T030000
TZOFFSETFROM:+0100
TZOFFSETTO:+0200
TZNAME:CEST
END:DAYLIGHT
END:VTIMEZONE
END:VCALENDAR