BEGIN:VCALENDAR
VERSION:2.0
PRODID:-//wp-events-plugin.com//7.2.3.1//EN
BEGIN:VEVENT
UID:498@ventureclub.cz
DTSTART;TZID=Europe/Prague:20240409T180000
DTEND;TZID=Europe/Prague:20240409T200000
DTSTAMP:20240405T170902Z
URL:https://ventureclub.cz/udalost/vltavska-filharmonie/
SUMMARY:Vltavská filharmonie
DESCRIPTION:Venture Club podporuje\, jak víte\, kulturu a dlouhodobě spol
 upracujeme s Bennewitzovým kvartetem. A protože po sto letech Praha zís
 ká nový koncertní sál - hudební centrum Vltavská filharmonie\, přip
 ravili jsme besedu a prezentaci projektu prostoru\, kam se věřím všich
 ni rádi podíváme. Povídat o projektu bude zástupce vedoucího projekt
 ového týmu Martin Gross a z PR oddělení teamu ho doprovodí Adéla Kol
 ářová.\n\n    \n\nVltavská filharmonie v podání dánského archit
 ektonického studia Bjarke Ingels Group nebude jen novým koncertním sál
 em\, který nabídne světové standardy 21. století z hlediska akustiky\
 , kapacity\, dispozičních možností\, technického zázemí\, architekt
 ury a urbanismu\, ale také živým a otevřeným kulturním prostorem pro
  všechny návštěvníky. Vltavská filharmonie potvrdí mezinárodní po
 věst Prahy jakožto kulturní metropole a symbolu české hudební tradic
 e a stane se novou dominantou celého Česka. Sen se stává skutečností
 .\n\nwww.vltavskafilharmonie.cz\n\nRegistrace na akci níže - tentokrát 
 ale pouze osobně. Nebude pořizován - na základě přání prezentujíc
 ích - záznam a ani stream. Vstup je pro řádné členy (členství 20. 
 tisíc Kč ročně) v ceně členství\, pro ostatní členy a hosty za ú
 hradu mírného vstupného. Akce je přístupná i bez členství v klubu\
 , po přihlášení a úhradě vstupného předem\, kartou\, převodem\, n
 ebo na místě hotově či QR kódem.\n\nTěšíme se na viděnou.\n\nPetr
  Šedivý a Radim Horák
ATTACH;FMTTYPE=image/jpeg:https://ventureclub.cz/wp-content/uploads/2024/0
 3/nova_filharmonie_Praha_sm.png
CATEGORIES:Prezentace
LOCATION:palác Konvikt\, Bartolomějská 11\, Praha 1\, Praha\, hlavní m
 ěsto\, 110 00\, Česká republika
GEO:50.0830744;14.4175702
X-APPLE-STRUCTURED-LOCATION;VALUE=URI;X-ADDRESS=Bartolomějská 11\, Praha 
 1\, Praha\, hlavní město\, 110 00\, Česká republika;X-APPLE-RADIUS=100
 ;X-TITLE=palác Konvikt:geo:50.0830744,14.4175702
END:VEVENT
BEGIN:VTIMEZONE
TZID:Europe/Prague
X-LIC-LOCATION:Europe/Prague
BEGIN:DAYLIGHT
DTSTART:20240331T030000
TZOFFSETFROM:+0100
TZOFFSETTO:+0200
TZNAME:CEST
END:DAYLIGHT
END:VTIMEZONE
END:VCALENDAR