BEGIN:VCALENDAR
VERSION:2.0
PRODID:-//wp-events-plugin.com//7.2.3.1//EN
BEGIN:VEVENT
UID:234@ventureclub.cz
DTSTART;TZID=Europe/Prague:20220111T170000
DTEND;TZID=Europe/Prague:20220111T200000
DTSTAMP:20221007T074306Z
URL:https://ventureclub.cz/udalost/vybor-11-1-2022/
SUMMARY:Výbor 11.1.2022
DESCRIPTION:Přátelé\, pokud můžete\, zvu Vás tímto na úterý 11.1.2
 022 na výbor Venture Clubu\, od 17 hodin. Témata:\n\n 	Informace k člen
 ské základně\, shrnutí roku 2020\, stav náběru investic do otevřen
 ých projektů\, stav rozpočtu\n 	Akce 2021\, připravované na další o
 bdobí\n 	Diskuze na téma: co a jak dále a lépe\, než dosud\, náměty
  členů\n 	Různé\n\nVstup pouze pro členy klubu: účast nutná u čle
 ny výboru\, společníky VCI a vhodná pro řádné členy.  Rádi uvít
 áme ale i základní členy.\n\nAkce bude pouze pro členy\, místo Park 
 Atrium. Přihlášení předem nutné. Ať máme přehled předem a může
 me zajistit občerstvení a uspořádání místnosti. Akce bude i ON-LINE
 \, pro předem přihlášené. Děkujeme. Hezký nový rok!\n\nTěším se
  na viděnou\n\nPetr Šedivý\n\npředseda výboru VCZS a jednatel VCI\n\n
 &nbsp\;
ATTACH;FMTTYPE=image/jpeg:https://ventureclub.cz/wp-content/uploads/2022/0
 8/Screenshot-2017-12-27-22.27.48-2.png
CATEGORIES:Výbor klubu
LOCATION:Park Atrium u spol. 2N\, Pod Vinicí 2028/20\, Praha 12\, Česká 
 republika
GEO:50.0158484;14.404343599999947
X-APPLE-STRUCTURED-LOCATION;VALUE=URI;X-ADDRESS=Pod Vinicí 2028/20\, Praha
  12\, Česká republika;X-APPLE-RADIUS=100;X-TITLE=Park Atrium u spol. 2N:
 geo:50.0158484,14.404343599999947
END:VEVENT
BEGIN:VTIMEZONE
TZID:Europe/Prague
X-LIC-LOCATION:Europe/Prague
BEGIN:STANDARD
DTSTART:20211031T020000
TZOFFSETFROM:+0200
TZOFFSETTO:+0100
TZNAME:CET
END:STANDARD
END:VTIMEZONE
END:VCALENDAR