BEGIN:VCALENDAR
VERSION:2.0
PRODID:-//wp-events-plugin.com//7.2.3.1//EN
BEGIN:VEVENT
UID:73@ventureclub.cz
DTSTART;TZID=Europe/Prague:20181002T170000
DTEND;TZID=Europe/Prague:20181002T180000
DTSTAMP:20221007T080224Z
URL:https://ventureclub.cz/udalost/vybor-2-10-2018/
SUMMARY:Výbor klubu 2.10.2018
DESCRIPTION:Zvu tímto členy výboru na schůzi výboru spolku Venture clu
 b z.s.\, dne 2.10.2018 od 17ti hodin. Jediným podstatným bodem programu 
 je volba výboru a předsedy spolku na další období\, od 16.10.2018 do 
 16.10.2020. Volí se kooptací. Případné návrhy řádných členů na 
 změny výboru prosím mailem předem\, nejen na zasedání výboru spolku
 . Další bod je Různé: akce a Dny D do konce roku 2018. Děkuji.\n\nPod
 robnosti - interní diskuze výboru k agendě - je ve Fórum.\n\nPetr Šed
 ivý\n\npředseda výboru spolku Venture club z.s.\n\n&nbsp\;
CATEGORIES:Výbor klubu
LOCATION:Sklípek Cellarius\, Budečská 29\, Praha 2\, 12000\, Česká rep
 ublika
GEO:50.0758849;14.441769499999964
X-APPLE-STRUCTURED-LOCATION;VALUE=URI;X-ADDRESS=Budečská 29\, Praha 2\, 1
 2000\, Česká republika;X-APPLE-RADIUS=100;X-TITLE=Sklípek Cellarius:geo
 :50.0758849,14.441769499999964
END:VEVENT
BEGIN:VTIMEZONE
TZID:Europe/Prague
X-LIC-LOCATION:Europe/Prague
BEGIN:DAYLIGHT
DTSTART:20180325T030000
TZOFFSETFROM:+0100
TZOFFSETTO:+0200
TZNAME:CEST
END:DAYLIGHT
END:VTIMEZONE
END:VCALENDAR