BEGIN:VCALENDAR
VERSION:2.0
PRODID:-//wp-events-plugin.com//7.2.3.1//EN
BEGIN:VEVENT
UID:46@ventureclub.cz
DTSTART;TZID=Europe/Prague:20180104T170000
DTEND;TZID=Europe/Prague:20180104T193000
DTSTAMP:20221007T074208Z
URL:https://ventureclub.cz/udalost/vybor-4-1-2018/
SUMMARY:Výbor 4.1.2018
DESCRIPTION:Přátelé\, pokud můžete\, přijďte v čtvrtek 4.1.2018 na 
 výbor klubu\, od 17 hodin. Témata:\n\n 	Informace k členské základně
 \, představení - schválení nových řádných členů\n 	Provizní sys
 tém\, Venture Club Invest a registrace k investicím\, stav\n 	Stav proje
 ktů připravovaných na další Dny D a stav momentálně nabíraných pr
 ojektů\n 	Akce 2018\n 	Různé\n\nVstup primárně pro členy klubu: čle
 ny výboru\, společníky VCI\, řádné členy ale i základní členy.\n
 \nKdo přijdete\, prosím\, naklikněte mi účast. Ať máme přehled př
 edem. Děkuji.\n\nTěším se na viděnou\n\nPetr Šedivý\n\npředseda v
 ýboru VCZS a jednatel VCI\n\n&nbsp\;
ATTACH;FMTTYPE=image/jpeg:https://ventureclub.cz/wp-content/uploads/2022/0
 8/Screenshot-2017-12-27-22.27.48-2.png
CATEGORIES:Výbor klubu
LOCATION:palác Konvikt\, Bartolomějská 11\, Praha 1\, Praha\, hlavní m
 ěsto\, 110 00\, Česká republika
GEO:50.0830744;14.4175702
X-APPLE-STRUCTURED-LOCATION;VALUE=URI;X-ADDRESS=Bartolomějská 11\, Praha 
 1\, Praha\, hlavní město\, 110 00\, Česká republika;X-APPLE-RADIUS=100
 ;X-TITLE=palác Konvikt:geo:50.0830744,14.4175702
END:VEVENT
BEGIN:VTIMEZONE
TZID:Europe/Prague
X-LIC-LOCATION:Europe/Prague
BEGIN:STANDARD
DTSTART:20171029T020000
TZOFFSETFROM:+0200
TZOFFSETTO:+0100
TZNAME:CET
END:STANDARD
END:VTIMEZONE
END:VCALENDAR