BEGIN:VCALENDAR
VERSION:2.0
PRODID:-//wp-events-plugin.com//7.2.3.1//EN
BEGIN:VEVENT
UID:31@ventureclub.cz
DTSTART;TZID=Europe/Prague:20170808T180000
DTEND;TZID=Europe/Prague:20170808T200000
DTSTAMP:20221007T074136Z
URL:https://ventureclub.cz/udalost/vybor-klubu-2/
SUMMARY:Výbor klubu
DESCRIPTION:8.8.2017 v 18 hodin se koná výbor klubu - podíváme se po ak
 tuálních projektech a přijímání nových členů. Řádní členové 
 jsou tímto též zváni. Místo bude upřesněno později (spojíme akci 
 s popovídáním u sklenky vína\, co říkáte?)\, případně se potkám
 e v Konviktu\, jako obvykle.\n\nProsím kdo se účastníte\, přihlaste s
 e - budeme tak moci zohlednit počet účastníků při výběru místa ko
 nání. Děkujeme.\n\nHezké letní dny\, přátelé.\n\nP.S.\n\nAktualizo
 vali jsme projekty\, nově přidaná kategorie INVESTOVÁNO.\n\n&nbsp\;
ATTACH;FMTTYPE=image/jpeg:https://ventureclub.cz/wp-content/uploads/2017/0
 7/schuze-150x150-1.png
CATEGORIES:Výbor klubu
LOCATION:palác Konvikt\, Bartolomějská 11\, Praha 1\, Praha\, hlavní m
 ěsto\, 110 00\, Česká republika
GEO:50.0830744;14.4175702
X-APPLE-STRUCTURED-LOCATION;VALUE=URI;X-ADDRESS=Bartolomějská 11\, Praha 
 1\, Praha\, hlavní město\, 110 00\, Česká republika;X-APPLE-RADIUS=100
 ;X-TITLE=palác Konvikt:geo:50.0830744,14.4175702
END:VEVENT
BEGIN:VTIMEZONE
TZID:Europe/Prague
X-LIC-LOCATION:Europe/Prague
BEGIN:DAYLIGHT
DTSTART:20170326T030000
TZOFFSETFROM:+0100
TZOFFSETTO:+0200
TZNAME:CEST
END:DAYLIGHT
END:VTIMEZONE
END:VCALENDAR