BEGIN:VCALENDAR
VERSION:2.0
PRODID:-//wp-events-plugin.com//7.2.3.1//EN
BEGIN:VEVENT
UID:66@ventureclub.cz
DTSTART;TZID=Europe/Prague:20180627T180000
DTEND;TZID=Europe/Prague:20180627T190000
DTSTAMP:20221007T074210Z
URL:https://ventureclub.cz/udalost/vybor-klubu-venture-club-z-s/
SUMMARY:Výbor klubu Venture Club z.s.
DESCRIPTION:27.6. od 18ti hodin se uskuteční výbor klubu - program je sc
 hválení roční závěrky za rok 2017. Pozvánku dostávají členové v
 ýboru emailem. Následná členská schůze se plánuje na září 2018\,
  která bere závěry na již jen na vědomí. I na tuto akci přijde čle
 nům pozvánka.
CATEGORIES:Výbor klubu
LOCATION:palác Konvikt\, Bartolomějská 11\, Praha 1\, Praha\, hlavní m
 ěsto\, 110 00\, Česká republika
GEO:50.0830744;14.4175702
X-APPLE-STRUCTURED-LOCATION;VALUE=URI;X-ADDRESS=Bartolomějská 11\, Praha 
 1\, Praha\, hlavní město\, 110 00\, Česká republika;X-APPLE-RADIUS=100
 ;X-TITLE=palác Konvikt:geo:50.0830744,14.4175702
END:VEVENT
BEGIN:VTIMEZONE
TZID:Europe/Prague
X-LIC-LOCATION:Europe/Prague
BEGIN:DAYLIGHT
DTSTART:20180325T030000
TZOFFSETFROM:+0100
TZOFFSETTO:+0200
TZNAME:CEST
END:DAYLIGHT
END:VTIMEZONE
END:VCALENDAR