BEGIN:VCALENDAR
VERSION:2.0
PRODID:-//wp-events-plugin.com//7.2.3.1//EN
BEGIN:VEVENT
UID:133@ventureclub.cz
DTSTART;TZID=Europe/Prague:20200204T160000
DTEND;TZID=Europe/Prague:20200204T174500
DTSTAMP:20221007T074230Z
URL:https://ventureclub.cz/udalost/vybor-vczs/
SUMMARY:Výbor VCZS - novinky pro rok 2020
DESCRIPTION:Zveme tímto členy klubu na zasedání výboru Venture Club z.
 s.\, kde se počítá s projednáním připravovaných novinek pro rok 202
 0\, včetně stanovení členských příspěvků na další období.\n\n(
 Přípravné jednání přístupné pro členy klubu běží 30.1.2020\, 1
 7-19 hodin\, v Konviktu)\n\nMísto a čas pro výbor VCZS dne 4.2.2020: Pa
 rk Atrium\, 16:00-17:45 Malý sál\n\nProgram: (pro informaci\, členové 
 výboru dostávají pozvánku i podklady předem mailem\, ostatní na vyž
 ádání)\n\n 	Schválení rámcového rozpočtu klubu na rok 2020\, včet
 ně možnosti změny kanceláří klubu\, obsazení místa asistentky a od
 měny statutářům. Uvažujeme o otevření společných kanceláří pro
  VCZS\, VCI\, VCA (nová advisory divize)\, případně i s právníky a m
 arketingem\, či dalšími - klubem investovanými firmami.\n 	Schválení
  změny výšky členských příspěvků pro základní a řádné členy
 \, pro platby placené od 1.3.2020\, včetně pravidel pro přijímání 
 členů. Nově se uvažuje z poplatkem základního člena 2 tisíc/ročn
 ě a řádného 20 tisíc ročně\, přičemž do konce února je možný 
 upgrade za doplatek 9 tisíc k základnímu členství\, pokud současně 
 člen splňuje podmínku kvalifikovaného investora podle českého práva
  (schopnost investovat až 1 mil Kč)\n 	Informace o nových pravidlech pr
 o možnost investování základních členů po 1.3.2020\, předpokládá
  se nabídka maximálně vždy prvním 20-ti základním členům. řádn
 í členové mohou investovat i nadále bez omezení počtu i výše inves
 tic.\n 	Diskuze na téma LaFluence a Investice do projektu produkce limito
 vané edice švýcarských hodinek\, podmínky vstupu\n 	Schválení nový
 ch řádných členů\n 	Ostatní\n\nProsíme o předchozí registraci pou
 ze pro tuto akci. Na večerní program se prosím hlaste separátně také
 . Děkuji za pochopení.\n\nMUDr. Petr Šedivý\n\npředseda výboru Ventu
 re Clubu\, V Praze\, dne 27.1.2020
CATEGORIES:Výbor klubu
LOCATION:Park Atrium u spol. 2N\, Pod Vinicí 2028/20\, Praha 12\, Česká 
 republika
GEO:50.0158484;14.404343599999947
X-APPLE-STRUCTURED-LOCATION;VALUE=URI;X-ADDRESS=Pod Vinicí 2028/20\, Praha
  12\, Česká republika;X-APPLE-RADIUS=100;X-TITLE=Park Atrium u spol. 2N:
 geo:50.0158484,14.404343599999947
END:VEVENT
BEGIN:VTIMEZONE
TZID:Europe/Prague
X-LIC-LOCATION:Europe/Prague
BEGIN:STANDARD
DTSTART:20191027T020000
TZOFFSETFROM:+0200
TZOFFSETTO:+0100
TZNAME:CET
END:STANDARD
END:VTIMEZONE
END:VCALENDAR