BEGIN:VCALENDAR
VERSION:2.0
PRODID:-//wp-events-plugin.com//7.2.3.1//EN
BEGIN:VEVENT
UID:129@ventureclub.cz
DTSTART;TZID=Europe/Prague:20200107T170000
DTEND;TZID=Europe/Prague:20200107T200000
DTSTAMP:20221007T074229Z
URL:https://ventureclub.cz/udalost/vybor-venture-club-1-2020/
SUMMARY:Výbor Venture Club z.s.
DESCRIPTION:Zvu Vás tímto na zasedání výboru spolku Venture Club z.s. 
 k zahájení nové sezony roku 2020. Výbor bude projednávat chystané zm
 ěny v klubu a program na nový rok 2020.\n\nProgram zasedání:\n\n 	Př
 íprava\, upřesnění programu spolku v novém roce\n 	Schválení novýc
 h řádných členů\, členská evidence spolku\n 	Sazby příspěvků a 
 vstupů pro další období\n 	Plánované výdaje\, příjmy na další o
 bdobí\n\nPřípadné náměty na změnu či doplnění programu prosím p
 ošlete nejdéle do konce roku 2019\, včetně. Děkuji.\n\nZasedání vý
 boru je přístupné členům spolku po předchozí registraci účasti.\n
 \nTěším se na viděnou\n\nPetr Šedivý\n\nPředseda výboru Venture cl
 ub z.s.
ATTACH;FMTTYPE=image/jpeg:https://ventureclub.cz/wp-content/uploads/2019/1
 2/2016-10-25-17.10.18-e1564403546445.jpg
CATEGORIES:Výbor klubu
LOCATION:palác Konvikt\, Bartolomějská 11\, Praha 1\, Praha\, hlavní m
 ěsto\, 110 00\, Česká republika
GEO:50.0830744;14.4175702
X-APPLE-STRUCTURED-LOCATION;VALUE=URI;X-ADDRESS=Bartolomějská 11\, Praha 
 1\, Praha\, hlavní město\, 110 00\, Česká republika;X-APPLE-RADIUS=100
 ;X-TITLE=palác Konvikt:geo:50.0830744,14.4175702
END:VEVENT
BEGIN:VTIMEZONE
TZID:Europe/Prague
X-LIC-LOCATION:Europe/Prague
BEGIN:STANDARD
DTSTART:20191027T020000
TZOFFSETFROM:+0200
TZOFFSETTO:+0100
TZNAME:CET
END:STANDARD
END:VTIMEZONE
END:VCALENDAR