BEGIN:VCALENDAR
VERSION:2.0
PRODID:-//wp-events-plugin.com//7.2.3.1//EN
BEGIN:VEVENT
UID:677@ventureclub.cz
DTSTART;TZID=Europe/Prague:20260113T180000
DTEND;TZID=Europe/Prague:20260113T210000
DTSTAMP:20260105T191337Z
URL:https://ventureclub.cz/udalost/vybor-venture-club-z-s/
SUMMARY:Výbor Venture Club z.s.
DESCRIPTION:Zvu Vás tímto na zasedání výboru spolku Venture Club z.s. 
 k zahájení nové sezony roku 2026. Výbor bude projednávat možné změ
 ny v klubu a program na nový rok 2026.\n\nZasedání výboru je mimo čle
 nů výboru tentokrát přístupné jen členům spolku s řádným (plný
 m\, tj dražším) členstvím po předchozí registraci účasti.  Členo
 vé výboru dostávají pozvánku emailem.\n\nTěším se na viděnou\n\nP
 etr Šedivý\n\nPředseda výboru Venture club z.s.
ATTACH;FMTTYPE=image/jpeg:https://ventureclub.cz/wp-content/uploads/2019/1
 2/2016-10-25-17.10.18-e1564403546445.jpg
CATEGORIES:Výbor klubu
LOCATION:Park Atrium u spol. 2N\, Pod Vinicí 2028/20\, Praha 12\, Česká 
 republika
GEO:50.0158484;14.404343599999947
X-APPLE-STRUCTURED-LOCATION;VALUE=URI;X-ADDRESS=Pod Vinicí 2028/20\, Praha
  12\, Česká republika;X-APPLE-RADIUS=100;X-TITLE=Park Atrium u spol. 2N:
 geo:50.0158484,14.404343599999947
END:VEVENT
BEGIN:VTIMEZONE
TZID:Europe/Prague
X-LIC-LOCATION:Europe/Prague
BEGIN:STANDARD
DTSTART:20251026T020000
TZOFFSETFROM:+0200
TZOFFSETTO:+0100
TZNAME:CET
END:STANDARD
END:VTIMEZONE
END:VCALENDAR