BEGIN:VCALENDAR
VERSION:2.0
PRODID:-//wp-events-plugin.com//7.2.3.1//EN
BEGIN:VEVENT
UID:191@ventureclub.cz
DTSTART;TZID=Europe/Prague:20220913T170000
DTEND;TZID=Europe/Prague:20220913T174500
DTSTAMP:20221007T074326Z
URL:https://ventureclub.cz/udalost/vybor-venture-clubu-13092022/
SUMMARY:Výbor Venture Clubu - volební
DESCRIPTION:Zveme členy klubu na jednání výboru - který je tentokrát 
 volební. Jednou za dva roky v souladu se Stanovami klubu se obnovuje koop
 tací složení Výboru spolku Venture Club z.s. a (staro-)nový výbor si
  zvolí předsedu.  Zahájení je plánované na 17 hodin. Sejdeme se v m
 além sále Park Atrium\, 5. patro (zadní budova u 2N\,  Modřany).\n\nP
 ozvánka bude poslaná i emailem. Zde je vyvěšena navíc i pro potřeby 
 informování členů spolku.\n\nProgram:\n\n 	Kooptace uvolněných míst
  členů výboru\n 	Volba předsedy spolku Venture Club z.s.\n 	Schválen
 í nových Řádných členů spolku\n 	Kooptace neobsazeného místa čle
 na výboru – kandidát: Ing. Petr Štěpánek\n\nTěším se na setkán
 í.\nPetr Šedivý\n\nV Praze\, dne 2.9.2022
ATTACH;FMTTYPE=image/jpeg:https://ventureclub.cz/wp-content/uploads/2022/0
 9/vybor_HB_VV-e1662185571317.jpg
CATEGORIES:Výbor klubu
LOCATION:Park Atrium u spol. 2N\, Pod Vinicí 2028/20\, Praha 12\, Česká 
 republika
GEO:50.0158484;14.404343599999947
X-APPLE-STRUCTURED-LOCATION;VALUE=URI;X-ADDRESS=Pod Vinicí 2028/20\, Praha
  12\, Česká republika;X-APPLE-RADIUS=100;X-TITLE=Park Atrium u spol. 2N:
 geo:50.0158484,14.404343599999947
END:VEVENT
BEGIN:VTIMEZONE
TZID:Europe/Prague
X-LIC-LOCATION:Europe/Prague
BEGIN:DAYLIGHT
DTSTART:20220327T030000
TZOFFSETFROM:+0100
TZOFFSETTO:+0200
TZNAME:CEST
END:DAYLIGHT
END:VTIMEZONE
END:VCALENDAR