BEGIN:VCALENDAR
VERSION:2.0
PRODID:-//wp-events-plugin.com//7.2.3.1//EN
BEGIN:VEVENT
UID:101@ventureclub.cz
DTSTART;TZID=Europe/Prague;VALUE=DATE:20190426
DTEND;TZID=Europe/Prague;VALUE=DATE:20190429
DTSTAMP:20221007T074227Z
URL:https://ventureclub.cz/udalost/vylet-do-krkonos/
SUMMARY:Výlet do Krkonoš
DESCRIPTION:Koncem dubna bude již jaro v plném proudu i na hřebenech Krk
 onoš a je ideální čas si po zimním spánku protáhnout těla\, rozš
 ířit plíce\, dobít energii na slunci a získat čerstvé nápady!\n\n&
 nbsp\;\n\nNa poslední dubnový víkend: 26. – 28. 4. proto připravujem
 e společný výlet do Krkonoš. Rádi bychom dali možnost členům a rod
 inným příslušníkům poznat krásy našich nejvyšších hor a mít č
 as i na společné aktivity. Chystáme pronajmout tradiční krkonošskou 
 chalupu\, kde budeme sami a kam bude snadná doprava autem. Předpokládá
 me\, že případné spartánské vybavení nebude nikomu ty dvě noci vad
 it\, vždyť to bude kompenzované úžasnými zážitky z přírodních s
 cenérií\, spoustou zábavy a vrcholným kulinářským zážitkem!\n\n&n
 bsp\;\n\nJak to bude probíhat?\n\n 	V pátek počítáme se zahájením (
 to se zrovna nad střední Evropu přesune oblast vysokého tlaku s intenz
 ivním slunečním svitem)\, kdy se odpoledne individuálně dopravíme a
 ž k chalupě\, ubytujeme se a pokud bude zájem\, připravíme společně
  na sobotu tradiční guláš. Alternativou bude i nějaká slušná resta
 urace v docházkové vzdálenosti\, třeba s nabídkou tradiční krkonoš
 ské pizzy.\n 	V sobotu\, podle domluvy\, se vydáme na různě dlouhé t
 úry\, podle počasí\, fyzických schopností a nálady. Užijeme si slun
 íčka\, krásně navoněných klečí a tajících zbytků sněhových z
 ávějí. Večer se sejdeme\, vyměníme si dojmy\, ošetříme odřené n
 ohy a při společné zábavě si užijeme ten guláš.\n 	V neděli po sn
 ídani budeme moci absolvovat další výlety\, opět podle nálady\, poč
 así\, fyzických předpokladů.\n\n&nbsp\;\n\nProtože kapacita podobnýc
 h stavení je omezená\, prosíme všechny zájemce - členy klubu\, aby r
 egistrovali sebe a rodinné příslušníky co nejrychleji! Předpokládan
 ý počet je 15-20 osob.\n\n&nbsp\;\n\nPočítejte s tím\, že výdaje (d
 oprava\, ubytování\, jídlo) si bude každý hradit sám. Orientační n
 áklady jsou následující:\n\n 	Ubytování vás vyjde na cca 1 000 Kč 
 / osobu / víkend (2 noci).\n 	Jídlo a pití si každý uhradí v restaur
 aci (případně si také společně uvaříme zmíněný guláš).\n 	Dop
 ravu si zajistí každý individuálně po vlastní ose (cca 1 000 Kč).\n
  	Odhadem vyjdou tedy náklady pro 3 člennou rodinu na 5 - 6 000 Kč\, v 
 závislosti na vašem hladu a žízni.\n\n&nbsp\;\n\nVěříme\, že bude 
 dost zájemců a vše klapne podle plánu.\n\nPřípadné dotazy směřujt
 e na horakradim@email.cz. Děkujeme.\n\n&nbsp\;\n\nTěšíme se!\nPetr Še
 divý a Radim Horák\n\n&nbsp\;
ATTACH;FMTTYPE=image/jpeg:https://ventureclub.cz/wp-content/uploads/2019/0
 3/mountains-190916_1280-1.jpg
CATEGORIES:Společenská akce
END:VEVENT
BEGIN:VTIMEZONE
TZID:Europe/Prague
X-LIC-LOCATION:Europe/Prague
BEGIN:DAYLIGHT
DTSTART:20190331T030000
TZOFFSETFROM:+0100
TZOFFSETTO:+0200
TZNAME:CEST
END:DAYLIGHT
END:VTIMEZONE
END:VCALENDAR