BEGIN:VCALENDAR
VERSION:2.0
PRODID:-//wp-events-plugin.com//7.2.3.1//EN
BEGIN:VEVENT
UID:371@ventureclub.cz
DTSTART;TZID=Europe/Prague:20221108T180000
DTEND;TZID=Europe/Prague:20221108T200000
DTSTAMP:20221024T123846Z
URL:https://ventureclub.cz/udalost/zbynek-frolik-a-linet/
SUMMARY:Zbyněk Frolík a LINET\, největší výrobce nemocničních lůž
 ek na světě
DESCRIPTION:Milým hostem v klubu bude podnikatel Ing. Zbyněk Frolík\, za
 kladatel firmy LINET.\n\nZbyněk Frolík vystudoval ČVUT v Praze\, obor t
 echnická kybernetika a elektronické počítače na elektrotechnické fak
 ultě. V roce 1990 založil firmu Linet\, která dnes prodává zdravotnic
 ká lůžka po celém světě. Její hodnota se odhadovala k roku 2018 na 
 20 miliard\, dnes je vyšší. Za posledních 20 let věnovala firma kolem
  100 milionů Kč na dobročinné účely.\n\nZbyněk Frolík je spoluauto
 rem mezinárodních patentů\, obdržel řadu ocenění pro podnikatele. J
 e víceprezidentem Svazu průmyslu a dopravy ČR. Podílí se na mnoha fir
 mách kde má nyní své investice. Jednou z investovaných firem je i MES
  - výrobce baterií HE3DA. Společně s Venture Clubem zasedá v Boardu i
 nvestorů MES a i díky této spolupráci se nám ho povedlo získat na kl
 ubový večer.\n\nPřijďte si poslechnout příběh jednoho z našich vel
 mi inspirativních podnikatelů.\n\nNa akci se registrujte níže. Koná s
 e v prostorech 2N v Park Atriu v Modřanech.\n\nTěšíme se na zajímavý
  večer.
ATTACH;FMTTYPE=image/jpeg:https://ventureclub.cz/wp-content/uploads/2022/1
 0/linet_logo_color_rgb.png
CATEGORIES:Prezentace
LOCATION:Park Atrium u spol. 2N\, Pod Vinicí 2028/20\, Praha 12\, Česká 
 republika
GEO:50.0158484;14.404343599999947
X-APPLE-STRUCTURED-LOCATION;VALUE=URI;X-ADDRESS=Pod Vinicí 2028/20\, Praha
  12\, Česká republika;X-APPLE-RADIUS=100;X-TITLE=Park Atrium u spol. 2N:
 geo:50.0158484,14.404343599999947
END:VEVENT
BEGIN:VTIMEZONE
TZID:Europe/Prague
X-LIC-LOCATION:Europe/Prague
BEGIN:STANDARD
DTSTART:20221030T020000
TZOFFSETFROM:+0200
TZOFFSETTO:+0100
TZNAME:CET
END:STANDARD
END:VTIMEZONE
END:VCALENDAR